BEGIN:VCALENDAR
VERSION:2.0
PRODID:-//Sabre//Sabre VObject 4.5.8//EN
CALSCALE:GREGORIAN
LAST-MODIFIED:20250619T115337Z
BEGIN:VTIMEZONE
TZID:Europe/Dublin
BEGIN:DAYLIGHT
DTSTART:20241027T010000
TZOFFSETFROM:+0100
TZOFFSETTO:+0000
TZNAME:GMT
END:DAYLIGHT
BEGIN:DAYLIGHT
DTSTART:20251026T010000
TZOFFSETFROM:+0100
TZOFFSETTO:+0000
TZNAME:GMT
END:DAYLIGHT
BEGIN:STANDARD
DTSTART:20250330T010000
TZOFFSETFROM:+0000
TZOFFSETTO:+0100
TZNAME:IST
END:STANDARD
END:VTIMEZONE
BEGIN:VEVENT
UID:178d1c71-a92d-4da7-a196-6a89d0fe2277
DTSTAMP:20250619T115337Z
SUMMARY:DPVCG Meeting 12 JUN 2025
DTSTART;TZID=Europe/Dublin:20250612T133000
DTEND;TZID=Europe/Dublin:20250612T143000
DESCRIPTION:https://www.w3.org/events/meetings/178d1c71-a92d-4da7-a196-6a89
 d0fe2277/20250612T133000/\n\nThis is the weekly meeting for the DPVCG\n\nA
 genda: https://www.w3.org/events/meetings/178d1c71-a92d-4da7-a196-6a89d0fe
 2277/20250612T133000/\n\nAgenda\n\nPrevious minutes: https://w3id.org/dpv/
 meetings/meeting-2025-06-05\n\n- v2.2 roadmap\; see https://github.com/w3c
 /dpv/milestone/7 \n- New issues https://github.com/w3c/dpv/issues\n- PRs h
 ttps://github.com/w3c/dpv/pulls\n\n## Discussions\n\n- Do we model Use-Cas
 es or UsePolicy/UsagePolicy or something else? https://github.com/w3c/dpv/
 issues/284 (continued discussion)\n- Modelling Operating Factors for Techn
 ology https://github.com/w3c/dpv/issues/285 -- adding core concepts to DPV
  2.2\, rest TBD for 2.3-dev\n- Secondary Uses for Data Reuse https://githu
 b.com/w3c/dpv/issues/283\nissues/285 -- adding core concepts to DPV 2.2\, 
 rest TBD for 2.3-dev\n- v2.2 draft release planned for June end with final
  release in July\n- updates\, if any: TAIR integration (Julio\, Delaram)\,
  P7012 (Iain)\, ODRL guidance (Beatriz)\, EHDS (Georg)\, DPIA (Tytti)\n\n#
 # FYI\n\n- CFP for NXDG workshop\, see https://lists.w3.org/Archives/Publi
 c/public-dpvcg/2025Apr/0006.html\n\n- AOB
STATUS:CONFIRMED
CREATED:20250611T091739Z
LAST-MODIFIED:20250619T115337Z
SEQUENCE:1
ORGANIZER;CN=W3C Calendar;PARTSTAT=ACCEPTED;ROLE=NON-PARTICIPANT:mailto:nor
 eply@w3.org
ATTENDEE;CUTYPE=GROUP;ROLE=OPT-PARTICIPANT;RSVP=FALSE;CN=Data Privacy Vocab
 ularies and Controls Community Group:mailto:public-dpvcg@w3.org
RECURRENCE-ID;TZID=Europe/Dublin:20250612T133000
END:VEVENT
END:VCALENDAR
