BEGIN:VCALENDAR
VERSION:2.0
PRODID:-//Sabre//Sabre VObject 4.5.8//EN
CALSCALE:GREGORIAN
LAST-MODIFIED:20250514T212248Z
BEGIN:VTIMEZONE
TZID:Europe/Dublin
BEGIN:DAYLIGHT
DTSTART:20241027T010000
TZOFFSETFROM:+0100
TZOFFSETTO:+0000
TZNAME:GMT
END:DAYLIGHT
BEGIN:DAYLIGHT
DTSTART:20251026T010000
TZOFFSETFROM:+0100
TZOFFSETTO:+0000
TZNAME:GMT
END:DAYLIGHT
BEGIN:STANDARD
DTSTART:20250330T010000
TZOFFSETFROM:+0000
TZOFFSETTO:+0100
TZNAME:IST
END:STANDARD
END:VTIMEZONE
BEGIN:VEVENT
UID:178d1c71-a92d-4da7-a196-6a89d0fe2277
DTSTAMP:20250514T212248Z
SUMMARY:DPVCG Meeting 15 MAY 2025
DTSTART;TZID=Europe/Dublin:20250515T133000
DTEND;TZID=Europe/Dublin:20250515T143000
DESCRIPTION:https://www.w3.org/events/meetings/178d1c71-a92d-4da7-a196-6a89
 d0fe2277/20250515T133000/\n\nThis is the weekly meeting for the DPVCG\n\nA
 genda: https://www.w3.org/events/meetings/178d1c71-a92d-4da7-a196-6a89d0fe
 2277/20250515T133000/\n\nAgenda\n\nPrevious minutes: https://w3id.org/dpv/
 meetings/meeting-2025-05-08\n\n- v2.2 roadmap\; see https://github.com/w3c
 /dpv/milestone/7 \n- New issues https://github.com/w3c/dpv/issues\n- PRs h
 ttps://github.com/w3c/dpv/pulls\n\n## Decisions \n\n- Modelling Intended U
 ses/Purposes as Use-Cases https://github.com/w3c/dpv/issues/284 (continued
  discussion on specific use-case categories)\n\n## Discussions\n\n- Modell
 ing Operating Factors for Technology https://github.com/w3c/dpv/issues/285
 \n- Secondary Uses for Data Reuse https://github.com/w3c/dpv/issues/283\ni
 ssues/285\n\n## FYI\n\n- Good news: ISO/IEC TS 27560:2023 is now free to a
 ccess https://www.iso.org/standard/80392.html\n- CFP for NXDG workshop\, s
 ee https://lists.w3.org/Archives/Public/public-dpvcg/2025Apr/0006.html\n- 
 User study involving DPV concepts https://lists.w3.org/Archives/Public/pub
 lic-dpvcg/2025May/0000.html\n\n- AOB
STATUS:CONFIRMED
CREATED:20250514T212247Z
LAST-MODIFIED:20250514T212248Z
SEQUENCE:1
ORGANIZER;CN=W3C Calendar;PARTSTAT=ACCEPTED;ROLE=NON-PARTICIPANT:mailto:nor
 eply@w3.org
ATTENDEE;CUTYPE=GROUP;ROLE=OPT-PARTICIPANT;RSVP=FALSE;CN=Data Privacy Vocab
 ularies and Controls Community Group:mailto:public-dpvcg@w3.org
RECURRENCE-ID;TZID=Europe/Dublin:20250515T133000
END:VEVENT
END:VCALENDAR
