BEGIN:VCALENDAR
VERSION:2.0
PRODID:-//Sabre//Sabre VObject 4.5.8//EN
CALSCALE:GREGORIAN
LAST-MODIFIED:20250508T102604Z
BEGIN:VTIMEZONE
TZID:Europe/Dublin
BEGIN:DAYLIGHT
DTSTART:20241027T010000
TZOFFSETFROM:+0100
TZOFFSETTO:+0000
TZNAME:GMT
END:DAYLIGHT
BEGIN:DAYLIGHT
DTSTART:20251026T010000
TZOFFSETFROM:+0100
TZOFFSETTO:+0000
TZNAME:GMT
END:DAYLIGHT
BEGIN:STANDARD
DTSTART:20250330T010000
TZOFFSETFROM:+0000
TZOFFSETTO:+0100
TZNAME:IST
END:STANDARD
END:VTIMEZONE
BEGIN:VEVENT
UID:178d1c71-a92d-4da7-a196-6a89d0fe2277
DTSTAMP:20250508T102604Z
SUMMARY:DPVCG Meeting 08 MAY 2025
DTSTART;TZID=Europe/Dublin:20250508T133000
DTEND;TZID=Europe/Dublin:20250508T143000
DESCRIPTION:https://www.w3.org/events/meetings/178d1c71-a92d-4da7-a196-6a89
 d0fe2277/20250508T133000/\n\nThis is the weekly meeting for the DPVCG\n\nA
 genda: https://www.w3.org/events/meetings/178d1c71-a92d-4da7-a196-6a89d0fe
 2277/20250508T133000/\n\nAgenda\n\nPrevious minutes: https://w3id.org/dpv/
 meetings/meeting-2025-05-01\n\n- v2.2 roadmap\; see https://github.com/w3c
 /dpv/milestone/7 \n- New issues https://github.com/w3c/dpv/issues\n- PRs h
 ttps://github.com/w3c/dpv/pulls\n\n## Decisions \n\n- Modelling Intended U
 ses/Purposes as Use-Cases https://github.com/w3c/dpv/issues/284\n\n## Disc
 ussions\n\n- Modelling Operating Factors for Technology https://github.com
 /w3c/dpv/issues/285\n- Secondary Uses for Data Reuse https://github.com/w3
 c/dpv/issues/283\nissues/285\n\n## Updates\n\n- LOC subjective concepts: t
 o be added to PD and TECH extensions along with note\n- LOC geo-political 
 note clarifying interpretation of concepts\n- LOC changed "inverse locatio
 n" to "inverse jurisdiction" to align with terminology\; added "dpv:Jurisd
 iction" concept to distinguish physical location from jurisdiction (and en
 able expressing data transfers)\; fixed ISO 3166 implementation where some
  regions were modelled as countries\n- Documentation generator can now out
 put RDF and HTML for specific extensions\, removed unstable serialisation 
 formats\n\n## FYI\n\n- CFP for NXDG workshop\, see https://lists.w3.org/Ar
 chives/Public/public-dpvcg/2025Apr/0006.html\n- User study involving DPV c
 oncepts https://lists.w3.org/Archives/Public/public-dpvcg/2025May/0000.htm
 l\n\n- AOB
STATUS:CONFIRMED
CREATED:20250508T102603Z
LAST-MODIFIED:20250508T102604Z
SEQUENCE:1
ORGANIZER;CN=W3C Calendar;PARTSTAT=ACCEPTED;ROLE=NON-PARTICIPANT:mailto:nor
 eply@w3.org
ATTENDEE;CUTYPE=GROUP;ROLE=OPT-PARTICIPANT;RSVP=FALSE;CN=Data Privacy Vocab
 ularies and Controls Community Group:mailto:public-dpvcg@w3.org
RECURRENCE-ID;TZID=Europe/Dublin:20250508T133000
END:VEVENT
END:VCALENDAR
