BEGIN:VCALENDAR
VERSION:2.0
PRODID:-//Sabre//Sabre VObject 4.5.8//EN
CALSCALE:GREGORIAN
LAST-MODIFIED:20250422T211711Z
BEGIN:VTIMEZONE
TZID:Europe/Dublin
BEGIN:DAYLIGHT
DTSTART:20241027T010000
TZOFFSETFROM:+0100
TZOFFSETTO:+0000
TZNAME:GMT
END:DAYLIGHT
BEGIN:DAYLIGHT
DTSTART:20251026T010000
TZOFFSETFROM:+0100
TZOFFSETTO:+0000
TZNAME:GMT
END:DAYLIGHT
BEGIN:STANDARD
DTSTART:20250330T010000
TZOFFSETFROM:+0000
TZOFFSETTO:+0100
TZNAME:IST
END:STANDARD
END:VTIMEZONE
BEGIN:VEVENT
UID:178d1c71-a92d-4da7-a196-6a89d0fe2277
DTSTAMP:20250422T211711Z
SUMMARY:DPVCG Meeting 24 APR 2025
DTSTART;TZID=Europe/Dublin:20250424T133000
DTEND;TZID=Europe/Dublin:20250424T143000
DESCRIPTION:https://www.w3.org/events/meetings/178d1c71-a92d-4da7-a196-6a89
 d0fe2277/20250424T133000/\n\nThis is the weekly meeting for the DPVCG\n\nA
 genda: https://www.w3.org/events/meetings/178d1c71-a92d-4da7-a196-6a89d0fe
 2277/20250424T133000/\n\nAgenda\n\nPrevious minutes: https://w3id.org/dpv/
 meetings/meeting-2025-04-17\n\n- v2.2 roadmap\; see https://github.com/w3c
 /dpv/milestone/7 \n- New issues https://github.com/w3c/dpv/issues\n- PRs h
 ttps://github.com/w3c/dpv/pulls\n\n- LOC extension: add subjective concept
 s (e.g. AtHome) https://github.com/w3c/dpv/issues/209 (organise special se
 ssion)\n- LOC extension: add inversive concepts (e.g. NonEU) https://githu
 b.com/w3c/dpv/issues/208 (view RDF/HTML)\n- AI training concepts https://g
 ithub.com/w3c/dpv/issues/82 (confirm concepts re. training = processing)\n
 - Represent Risk Level classifications for AI/Systems in AI Act https://gi
 thub.com/w3c/dpv/issues/231 (confirm risk levels)\n- (new) Represent AI Ca
 rds with DPV https://github.com/w3c/dpv/issues/281 (discuss scope)\n- (new
 ) Incident and Data Breach Notifications https://github.com/w3c/dpv/issues
 /282 (discuss scope)\n- (new) Secondary Uses for Data Reuse https://github
 .com/w3c/dpv/issues/283\n- (new) Modelling Intended Uses/Purposes as Use-C
 ases https://github.com/w3c/dpv/issues/284\n- (new) Modelling Operating Fa
 ctors for Technology https://github.com/w3c/dpv/issues/285\n\n- AOB
STATUS:CONFIRMED
CREATED:20250422T211710Z
LAST-MODIFIED:20250422T211711Z
SEQUENCE:1
ORGANIZER;CN=W3C Calendar;PARTSTAT=ACCEPTED;ROLE=NON-PARTICIPANT:mailto:nor
 eply@w3.org
ATTENDEE;CUTYPE=GROUP;ROLE=OPT-PARTICIPANT;RSVP=FALSE;CN=Data Privacy Vocab
 ularies and Controls Community Group:mailto:public-dpvcg@w3.org
RECURRENCE-ID;TZID=Europe/Dublin:20250424T133000
END:VEVENT
END:VCALENDAR
