BEGIN:VCALENDAR
VERSION:2.0
PRODID:-//Sabre//Sabre VObject 4.5.8//EN
CALSCALE:GREGORIAN
LAST-MODIFIED:20250403T064801Z
BEGIN:VTIMEZONE
TZID:Europe/Dublin
BEGIN:DAYLIGHT
DTSTART:20241027T010000
TZOFFSETFROM:+0100
TZOFFSETTO:+0000
TZNAME:GMT
END:DAYLIGHT
BEGIN:DAYLIGHT
DTSTART:20251026T010000
TZOFFSETFROM:+0100
TZOFFSETTO:+0000
TZNAME:GMT
END:DAYLIGHT
BEGIN:STANDARD
DTSTART:20250330T010000
TZOFFSETFROM:+0000
TZOFFSETTO:+0100
TZNAME:IST
END:STANDARD
END:VTIMEZONE
BEGIN:VEVENT
UID:178d1c71-a92d-4da7-a196-6a89d0fe2277
DTSTAMP:20250403T064801Z
SUMMARY:DPVCG Meeting 03 APR 2025
DTSTART;TZID=Europe/Dublin:20250403T133000
DTEND;TZID=Europe/Dublin:20250403T143000
DESCRIPTION:https://www.w3.org/events/meetings/178d1c71-a92d-4da7-a196-6a89
 d0fe2277/20250403T133000/\n\nThis is the weekly meeting for the DPVCG\n\nA
 genda: https://www.w3.org/events/meetings/178d1c71-a92d-4da7-a196-6a89d0fe
 2277/20250403T133000/\n\nAgenda\n\nPrevious minutes: https://w3id.org/dpv/
 meetings/meeting-2025-03-27\n\nThis meeting will be chaired by Delaram Gol
 payegani.\n\n- v2.2 roadmap\; see https://github.com/w3c/dpv/milestone/7 \
 n- New issues https://github.com/w3c/dpv/issues\n- PRs https://github.com/
 w3c/dpv/pulls\n\nUpdates if any for following discussions:\n\n- Misc conce
 pts based on GDPR CoC and Certifications (Stratis' proposal) https://githu
 b.com/w3c/dpv/issues/278\n- Fixing published 2.1 documents - do we publish
  a new minor version e.g. 2.1.1 https://github.com/w3c/dpv/issues/276 http
 s://github.com/w3c/dpv/issues/269\n- Represent Risk Level classifications 
 for AI/Systems in AI Act https://github.com/w3c/dpv/issues/231\n- Represen
 t Datasheets and Model Cards with DPV https://github.com/w3c/dpv/issues/94
 \n- Update EHDS extension with practical concepts https://github.com/w3c/d
 pv/issues/238\n- AI training concepts https://github.com/w3c/dpv/issues/82
 \n- LOC extension: add subjective concepts (e.g. AtHome) https://github.co
 m/w3c/dpv/issues/209\n- LOC extension: add inversive concepts (e.g. NonEU)
  https://github.com/w3c/dpv/issues/208\n\n- AOB
STATUS:CONFIRMED
CREATED:20250403T064800Z
LAST-MODIFIED:20250403T064801Z
SEQUENCE:1
ORGANIZER;CN=W3C Calendar;PARTSTAT=ACCEPTED;ROLE=NON-PARTICIPANT:mailto:nor
 eply@w3.org
ATTENDEE;CUTYPE=GROUP;ROLE=OPT-PARTICIPANT;RSVP=FALSE;CN=Data Privacy Vocab
 ularies and Controls Community Group:mailto:public-dpvcg@w3.org
RECURRENCE-ID;TZID=Europe/Dublin:20250403T133000
END:VEVENT
END:VCALENDAR
