BEGIN:VCALENDAR
VERSION:2.0
PRODID:-//Sabre//Sabre VObject 4.5.8//EN
CALSCALE:GREGORIAN
LAST-MODIFIED:20250205T135354Z
BEGIN:VTIMEZONE
TZID:Europe/Dublin
BEGIN:STANDARD
DTSTART:20240331T010000
TZOFFSETFROM:+0000
TZOFFSETTO:+0100
TZNAME:IST
END:STANDARD
BEGIN:STANDARD
DTSTART:20250330T010000
TZOFFSETFROM:+0000
TZOFFSETTO:+0100
TZNAME:IST
END:STANDARD
BEGIN:DAYLIGHT
DTSTART:20241027T010000
TZOFFSETFROM:+0100
TZOFFSETTO:+0000
TZNAME:GMT
END:DAYLIGHT
END:VTIMEZONE
BEGIN:VEVENT
UID:178d1c71-a92d-4da7-a196-6a89d0fe2277
DTSTAMP:20250205T135354Z
SUMMARY:DPVCG Meeting 06 FEB 2025
DTSTART;TZID=Europe/Dublin:20250206T133000
DTEND;TZID=Europe/Dublin:20250206T143000
DESCRIPTION:https://www.w3.org/events/meetings/178d1c71-a92d-4da7-a196-6a89
 d0fe2277/20250206T133000/\n\nThis is the weekly meeting for the DPVCG\n\nA
 genda: https://www.w3.org/events/meetings/178d1c71-a92d-4da7-a196-6a89d0fe
 2277/20250206T133000/\n\nAgenda\n\nPrevious minutes: https://w3id.org/dpv/
 meetings/meeting-2025-01-30\n\n- v2.1 release candidate with open review u
 ntil FEB-16\; see https://lists.w3.org/Archives/Public/public-dpvcg/2025Fe
 b/0002.html and https://github.com/w3c/dpv/issues/235 for hotfixes\n- Star
 ting work on v2.2\; see https://github.com/w3c/dpv/milestone/7 \n- AI: add
  concepts represent AI training as purpose/processing + permitted/prohibit
 ed https://github.com/w3c/dpv/issues/82\n- LOC extension: add subjective c
 oncepts (e.g. AtHome) https://github.com/w3c/dpv/issues/209 (see https://d
 ocs.google.com/spreadsheets/d/19exhY34jq6VDApRp2abHD-br6rpm6Q7BOP7H_pm5sKM
 /edit?gid=1031247537#gid=1031247537 sheet3)\n- LOC extension: add inversiv
 e concepts (e.g. NonEU) https://github.com/w3c/dpv/issues/208\n- AOB\n\nMa
 iling list updates\n- Workshop on ODRL and Beyond: Practical Applications 
 and Challenges for Policy-Based Access and Usage Control (OPAL 2025) https
 ://lists.w3.org/Archives/Public/public-dpvcg/2025Feb/0000.html\n- Solid Sy
 mposium 2025 - Call for Contributions to the Privacy & Personal Data Manag
 ement Session https://lists.w3.org/Archives/Public/public-dpvcg/2025Feb/00
 01.html
STATUS:CONFIRMED
CREATED:20250203T141548Z
LAST-MODIFIED:20250205T135354Z
SEQUENCE:1
ORGANIZER;CN=W3C Calendar;PARTSTAT=ACCEPTED;ROLE=NON-PARTICIPANT:mailto:nor
 eply@w3.org
ATTENDEE;CUTYPE=GROUP;ROLE=OPT-PARTICIPANT;RSVP=FALSE;CN=Data Privacy Vocab
 ularies and Controls Community Group:mailto:public-dpvcg@w3.org
RECURRENCE-ID;TZID=Europe/Dublin:20250206T133000
END:VEVENT
END:VCALENDAR
