BEGIN:VCALENDAR
VERSION:2.0
PRODID:-//Sabre//Sabre VObject 4.5.8//EN
CALSCALE:GREGORIAN
LAST-MODIFIED:20231124T112821Z
BEGIN:VTIMEZONE
TZID:Etc/UTC
BEGIN:STANDARD
DTSTART:20221220T100000
TZOFFSETFROM:+0000
TZOFFSETTO:+0000
TZNAME:UTC
END:STANDARD
END:VTIMEZONE
BEGIN:VEVENT
UID:1763efc5-ca27-4285-8578-34126f999955
DTSTAMP:20231124T112821Z
SUMMARY:WebView Community Group introduction new chairs and discussion for 
 upcoming activities
DTSTART;TZID=Etc/UTC:20231215T100000
DTEND;TZID=Etc/UTC:20231215T110000
DESCRIPTION:https://www.w3.org/events/meetings/1763efc5-ca27-4285-8578-3412
 6f999955/\n\nNiklas and Ben here. We wanted to introduce ourselves as the 
 new co-chairs for the WebView CG. We’re really excited to pick up on the
  great work from the chairs before us.\n\nAgenda\n\n* Elect keeper of meet
 ing minutes\n* Round of introductions\n* Discuss where the group got to pr
 eviously\n* Discuss group ambitions for 2024\n* Discuss charter\n* Discuss
  time & interval for next meeting
STATUS:CONFIRMED
CREATED:20231124T105913Z
LAST-MODIFIED:20231124T112821Z
SEQUENCE:2
ORGANIZER;CN=W3C Calendar;PARTSTAT=ACCEPTED;ROLE=NON-PARTICIPANT:mailto:nor
 eply@w3.org
ATTENDEE;CUTYPE=GROUP;ROLE=OPT-PARTICIPANT;RSVP=FALSE;CN=WebView Community 
 Group:mailto:public-webview@w3.org
END:VEVENT
END:VCALENDAR
