BEGIN:VCALENDAR
VERSION:2.0
PRODID:-//Sabre//Sabre VObject 4.5.8//EN
CALSCALE:GREGORIAN
LAST-MODIFIED:20251120T221552Z
BEGIN:VTIMEZONE
TZID:America/New_York
X-MICROSOFT-CDO-TZID:10
BEGIN:DAYLIGHT
DTSTART:20250309T070000
TZOFFSETFROM:-0500
TZOFFSETTO:-0400
TZNAME:EDT
END:DAYLIGHT
BEGIN:DAYLIGHT
DTSTART:20260308T070000
TZOFFSETFROM:-0500
TZOFFSETTO:-0400
TZNAME:EDT
END:DAYLIGHT
BEGIN:STANDARD
DTSTART:20251102T060000
TZOFFSETFROM:-0400
TZOFFSETTO:-0500
TZNAME:EST
END:STANDARD
END:VTIMEZONE
BEGIN:VEVENT
UID:154ebefb-2b00-443f-afb5-a109d19fdd8d
DTSTAMP:20251120T221552Z
SUMMARY:Privacy CG Teleconference
DTSTART;TZID=America/New_York:20251113T120000
DTEND;TZID=America/New_York:20251113T130000
DESCRIPTION:https://www.w3.org/events/meetings/154ebefb-2b00-443f-afb5-a109
 d19fdd8d/20251113T120000/\n\n
STATUS:TENTATIVE
CREATED:20250501T211300Z
LAST-MODIFIED:20251120T221552Z
SEQUENCE:4
ORGANIZER;CN=W3C Calendar;PARTSTAT=ACCEPTED;ROLE=NON-PARTICIPANT:mailto:nor
 eply@w3.org
ATTENDEE;CUTYPE=GROUP;ROLE=OPT-PARTICIPANT;RSVP=FALSE;CN=Privacy Community 
 Group:mailto:public-privacycg@w3.org
RECURRENCE-ID;TZID=America/New_York:20251113T120000
END:VEVENT
END:VCALENDAR
