BEGIN:VCALENDAR
VERSION:2.0
PRODID:-//Sabre//Sabre VObject 4.5.8//EN
CALSCALE:GREGORIAN
LAST-MODIFIED:20250605T212555Z
BEGIN:VTIMEZONE
TZID:America/New_York
X-MICROSOFT-CDO-TZID:10
BEGIN:STANDARD
DTSTART:20241103T060000
TZOFFSETFROM:-0400
TZOFFSETTO:-0500
TZNAME:EST
END:STANDARD
BEGIN:STANDARD
DTSTART:20251102T060000
TZOFFSETFROM:-0400
TZOFFSETTO:-0500
TZNAME:EST
END:STANDARD
BEGIN:DAYLIGHT
DTSTART:20250309T070000
TZOFFSETFROM:-0500
TZOFFSETTO:-0400
TZNAME:EDT
END:DAYLIGHT
END:VTIMEZONE
BEGIN:VEVENT
UID:154ebefb-2b00-443f-afb5-a109d19fdd8d
DTSTAMP:20250605T212555Z
SUMMARY:Privacy CG Teleconference
DTSTART;TZID=America/New_York:20250612T120000
DTEND;TZID=America/New_York:20250612T130000
DESCRIPTION:https://www.w3.org/events/meetings/154ebefb-2b00-443f-afb5-a109
 d19fdd8d/20250612T120000/\n\n\n\nAgenda: https://github.com/privacycg/meet
 ings/blob/main/2025/telcons/06-12-agenda.md\n\nAgenda\n\n* [Storage Access
  API for non-cookie Storage](https://github.com/privacycg/saa-non-cookie-s
 torage)\n  * [Declaring constructors as methods is strange #31](https://gi
 thub.com/privacycg/saa-non-cookie-storage/issues/31)\n* [Storage Access AP
 I](https://github.com/privacycg/storage-access)\n  * [How does storage acc
 ess interact with Dedicated\, Shared and Service Workers? #157](https://gi
 thub.com/privacycg/storage-access/issues/157)\n* Any other business
STATUS:CONFIRMED
CREATED:20250605T212550Z
LAST-MODIFIED:20250605T212555Z
SEQUENCE:4
ORGANIZER;CN=W3C Calendar;PARTSTAT=ACCEPTED;ROLE=NON-PARTICIPANT:mailto:nor
 eply@w3.org
ATTENDEE;CUTYPE=GROUP;ROLE=OPT-PARTICIPANT;RSVP=FALSE;CN=Privacy Community 
 Group:mailto:public-privacycg@w3.org
RECURRENCE-ID;TZID=America/New_York:20250612T120000
END:VEVENT
END:VCALENDAR
