BEGIN:VCALENDAR
VERSION:2.0
PRODID:-//Sabre//Sabre VObject 4.5.8//EN
CALSCALE:GREGORIAN
LAST-MODIFIED:20230420T084459Z
BEGIN:VTIMEZONE
TZID:Europe/Vienna
BEGIN:STANDARD
DTSTART:20221030T010000
TZOFFSETFROM:+0200
TZOFFSETTO:+0100
TZNAME:CET
END:STANDARD
BEGIN:STANDARD
DTSTART:20231029T010000
TZOFFSETFROM:+0200
TZOFFSETTO:+0100
TZNAME:CET
END:STANDARD
BEGIN:DAYLIGHT
DTSTART:20230326T010000
TZOFFSETFROM:+0100
TZOFFSETTO:+0200
TZNAME:CEST
END:DAYLIGHT
END:VTIMEZONE
BEGIN:VEVENT
UID:1413c763-033d-4aa8-bbcf-e59206faa3e7
DTSTAMP:20230420T084459Z
SUMMARY:ConsentCG Meeting 2 May 2023
DTSTART;TZID=Europe/Vienna:20230502T170000
DTEND;TZID=Europe/Vienna:20230502T183000
DESCRIPTION:https://www.w3.org/events/meetings/1413c763-033d-4aa8-bbcf-e592
 06faa3e7/\n\n
STATUS:CONFIRMED
CREATED:20230420T084459Z
LAST-MODIFIED:20230420T084459Z
SEQUENCE:0
ORGANIZER;CN=W3C Calendar;PARTSTAT=ACCEPTED;ROLE=NON-PARTICIPANT:mailto:nor
 eply@w3.org
ATTENDEE;CUTYPE=GROUP;ROLE=OPT-PARTICIPANT;RSVP=FALSE;CN=Consent Community 
 Group:mailto:public-consent@w3.org
LOCATION:Online/Zoom
END:VEVENT
END:VCALENDAR
