BEGIN:VCALENDAR
VERSION:2.0
PRODID:-//Sabre//Sabre VObject 4.5.8//EN
CALSCALE:GREGORIAN
LAST-MODIFIED:20260413T143937Z
BEGIN:VTIMEZONE
TZID:America/New_York
X-MICROSOFT-CDO-TZID:10
BEGIN:STANDARD
DTSTART:20251102T060000
TZOFFSETFROM:-0400
TZOFFSETTO:-0500
TZNAME:EST
END:STANDARD
BEGIN:STANDARD
DTSTART:20261101T060000
TZOFFSETFROM:-0400
TZOFFSETTO:-0500
TZNAME:EST
END:STANDARD
BEGIN:DAYLIGHT
DTSTART:20260308T070000
TZOFFSETFROM:-0500
TZOFFSETTO:-0400
TZNAME:EDT
END:DAYLIGHT
END:VTIMEZONE
BEGIN:VEVENT
UID:13e33fa0-5073-46f5-9d2d-30672fe9dc00
DTSTAMP:20260413T143937Z
SUMMARY:W3C Process CG Call
DTSTART;TZID=America/New_York:20260422T100000
DTEND;TZID=America/New_York:20260422T110000
DESCRIPTION:https://www.w3.org/events/meetings/13e33fa0-5073-46f5-9d2d-3067
 2fe9dc00/20260422T100000/\n\nCancelled due to conflict with AC Meeting in 
 Hangzhou
STATUS:CANCELLED
CREATED:20260413T143936Z
LAST-MODIFIED:20260413T143937Z
SEQUENCE:6
ORGANIZER;CN=W3C Calendar;PARTSTAT=ACCEPTED;ROLE=NON-PARTICIPANT:mailto:nor
 eply@w3.org
ATTENDEE;CUTYPE=GROUP;ROLE=OPT-PARTICIPANT;RSVP=FALSE;CN=W3C Process Commun
 ity Group:mailto:public-w3process@w3.org
RECURRENCE-ID;TZID=America/New_York:20260422T100000
END:VEVENT
END:VCALENDAR
