BEGIN:VCALENDAR
VERSION:2.0
PRODID:-//Sabre//Sabre VObject 4.5.8//EN
CALSCALE:GREGORIAN
LAST-MODIFIED:20260127T225619Z
BEGIN:VTIMEZONE
TZID:America/New_York
X-MICROSOFT-CDO-TZID:10
BEGIN:DAYLIGHT
DTSTART:20250309T070000
TZOFFSETFROM:-0500
TZOFFSETTO:-0400
TZNAME:EDT
END:DAYLIGHT
BEGIN:DAYLIGHT
DTSTART:20260308T070000
TZOFFSETFROM:-0500
TZOFFSETTO:-0400
TZNAME:EDT
END:DAYLIGHT
BEGIN:STANDARD
DTSTART:20251102T060000
TZOFFSETFROM:-0400
TZOFFSETTO:-0500
TZNAME:EST
END:STANDARD
END:VTIMEZONE
BEGIN:VEVENT
UID:13e33fa0-5073-46f5-9d2d-30672fe9dc00
DTSTAMP:20260127T225619Z
SUMMARY:W3C Process CG Call
DTSTART;TZID=America/New_York:20260128T100000
DTEND;TZID=America/New_York:20260128T110000
DESCRIPTION:https://www.w3.org/events/meetings/13e33fa0-5073-46f5-9d2d-3067
 2fe9dc00/20260128T100000/\n\n[Revising W3C Process](https://www.w3.org/com
 munity/w3process/): Examine the way W3C works. Propose improvements to the
  formal processes.\n\n* [Github w3c/w3process](https://github.com/w3c/w3pr
 ocess/blob/main/README.md): [issues](https://github.com/w3c/w3process/issu
 es)\, [pull requests](https://github.com/w3c/w3process/pulls)\, [monthly p
 ulse](https://github.com/w3c/w3process/pulse/monthly)\n* [W3C Process Draf
 t](https://www.w3.org/policies/process/drafts/)\n* [Mailing list](https://
 lists.w3.org/Archives/Public/public-w3process/)\n\nUsual meeting time: SEC
 OND and FOURTH WEDNESDAY OF THE MONTH AT 10AM ET.\n\nAgenda\n\n### Date an
 d Time:\nWednesday 11 Feb 2026\nTime: 10:00 AM Boston (60min)\nLocal date/
 time link: https://www.timeanddate.com/worldclock/fixedtime.html?msg=Proce
 ssCG+Meeting&iso=20260211T10&p1=43&ah=1\n\n### SPECIAL NOTE\, if any:\n\n\
 n### Scribe list: \n\n\n### Meeting Chair:\nBrent Zundel\n\nTopic (time)\n
 1-Agenda+ Items [1] (5 min)\n2-Process PRs [2] (10 min)\n3-Propose to Clos
 e Items [3] (10 min)\n4-Process Issue Triage [4] (30 min)\n\nLinks\n[1] ht
 tps://github.com/w3c/process/issues?q=state%3Aopen%20label%3AAgenda%2B\n[2
 ] https://github.com/w3c/process/pulls\n[3] https://github.com/w3c/process
 /issues?q=state%3Aopen%20label%3A%22Proposed%20to%20close%22\n[4] https://
 github.com/w3c/process/issues?q=is%3Aissue%20state%3Aopen%20sort%3Aupdated
 -asc\n\n### Issues marked propose to close:\nAs of the time this email was
  sent\, the following issues and PRs were marked 'propose to close':\n\nIs
 sue 1033: https://github.com/w3c/process/issues/1033\n\nFor an up to date 
 list of the current set of 'propose to close' issues\, please see: \nhttps
 ://github.com/w3c/process/issues?q=is%3Aissue+is%3Aopen+sort%3Aupdated-asc
 +label%3A%22proposed+to+close%22
STATUS:CONFIRMED
CREATED:20260127T225617Z
LAST-MODIFIED:20260127T225619Z
SEQUENCE:6
ORGANIZER;CN=W3C Calendar;PARTSTAT=ACCEPTED;ROLE=NON-PARTICIPANT:mailto:nor
 eply@w3.org
ATTENDEE;CUTYPE=GROUP;ROLE=OPT-PARTICIPANT;RSVP=FALSE;CN=W3C Process Commun
 ity Group:mailto:public-w3process@w3.org
RECURRENCE-ID;TZID=America/New_York:20260128T100000
END:VEVENT
END:VCALENDAR
