BEGIN:VCALENDAR
VERSION:2.0
PRODID:-//Sabre//Sabre VObject 4.5.8//EN
CALSCALE:GREGORIAN
LAST-MODIFIED:20251112T234438Z
BEGIN:VTIMEZONE
TZID:Asia/Tokyo
X-MICROSOFT-CDO-TZID:20
BEGIN:STANDARD
DTSTART:20241118T000000
TZOFFSETFROM:+0900
TZOFFSETTO:+0900
TZNAME:JST
END:STANDARD
END:VTIMEZONE
BEGIN:VEVENT
UID:12acdd89-4ae5-470c-878d-d1bac82f2416
DTSTAMP:20251112T234438Z
SUMMARY:Federated Identity Working Group
DTSTART;TZID=Asia/Tokyo:20251113T090000
DTEND;TZID=Asia/Tokyo:20251113T123000
DESCRIPTION:https://www.w3.org/events/meetings/12acdd89-4ae5-470c-878d-d1ba
 c82f2416/\n\nScribing doc: https://docs.google.com/document/d/1iIsE7sDkZ8W
 U-1NYnKMYfQD5gildc6QQWNTDEkjSmSM/edit?usp=sharing\n\nAgenda: https://githu
 b.com/w3c-fedid/meetings/blob/main/2025/2025-11-12-FedCM-agenda.md
STATUS:CONFIRMED
CREATED:20250716T142510Z
LAST-MODIFIED:20251112T234438Z
SEQUENCE:8
ORGANIZER;CN=W3C Calendar;PARTSTAT=ACCEPTED;ROLE=NON-PARTICIPANT:mailto:nor
 eply@w3.org
ATTENDEE;CUTYPE=GROUP;ROLE=OPT-PARTICIPANT;RSVP=FALSE;CN=Federated Identity
  Working Group:mailto:public-fedid-wg@w3.org
LOCATION:Floor 4 - 401
CATEGORIES:TPAC 2025,Group Meetings
END:VEVENT
END:VCALENDAR
