BEGIN:VCALENDAR
VERSION:2.0
PRODID:-//Sabre//Sabre VObject 4.5.8//EN
CALSCALE:GREGORIAN
LAST-MODIFIED:20240805T221209Z
BEGIN:VTIMEZONE
TZID:America/Los_Angeles
X-MICROSOFT-CDO-TZID:13
BEGIN:STANDARD
DTSTART:20231105T090000
TZOFFSETFROM:-0700
TZOFFSETTO:-0800
TZNAME:PST
END:STANDARD
BEGIN:STANDARD
DTSTART:20241103T090000
TZOFFSETFROM:-0700
TZOFFSETTO:-0800
TZNAME:PST
END:STANDARD
BEGIN:DAYLIGHT
DTSTART:20240310T100000
TZOFFSETFROM:-0800
TZOFFSETTO:-0700
TZNAME:PDT
END:DAYLIGHT
END:VTIMEZONE
BEGIN:VEVENT
UID:12652488-6193-406f-9940-48f13025a2ad
DTSTAMP:20240805T221209Z
SUMMARY:Immersive Web Group Calls
DTSTART;TZID=America/Los_Angeles:20240806T120000
DTEND;TZID=America/Los_Angeles:20240806T130000
DESCRIPTION:https://www.w3.org/events/meetings/12652488-6193-406f-9940-48f1
 3025a2ad/20240806T120000/\n\n\n\nAgenda: https://github.com/immersive-web/
 administrivia/blob/main/meetings/2024/2024-08-05-Immersive_Web_Working_Gro
 up_Teleconference-agenda.md\n\nAgenda\n\n### Call Agenda\n\nThis agenda ca
 n be viewed and updated on [Github](https://github.com/immersive-web/admin
 istrivia/blob/main/meetings/2024/2024-08-05-Immersive_Web_Working_Group_Te
 leconference-agenda.md).\n\nIf you would like to add an item to the agenda
  or volunteer to scribe please open a pull request against this agenda.\n\
 n* [model-element#88 Fresh run at the introduction section](https://github
 .com/immersive-web/model-element/pull/88) [requested by zachernuk](https:/
 /github.com/immersive-web/model-element/pull/88#issuecomment-2215469193)\n
 > Re-framed the scope of what a declarative element being managed directly
  by the user agent actually has the ability to achieve!\n >\n\n* [model-el
 ement#89 Expand and revise examples section](https://github.com/immersive-
 web/model-element/pull/89) [requested by zachernuk](https://github.com/imm
 ersive-web/model-element/pull/89#issuecomment-2215496417)\n> Added the exa
 mples already sketched out in the document and added some more based on a 
 tentative approach to MVP functionality.\n >\n\n* [webxr#1378 WebGPU+WebXR
  bindings?](https://github.com/immersive-web/webxr/issues/1378) - mwyrzyko
 wski\n> With WebGPU being adopted or already adopted by several browsers\,
  it would be great to allow WebXR to target WebGPU as well.\n >\n\n### Imm
 ersive Web Working Group Teleconference - 2024-08-05\n\n<table>\n<tr><td> 
 San Francisco (U.S.A. - California) <td> Monday\, August 5 at 12:00 PM PDT
 \n<tr><td> Boston (U.S.A. - Massachusetts) <td> Monday\, August 5 at 3:00 
 PM EDT\n<tr><td> London (United Kingdom - England) <td> Monday\, August 5 
 at 8:00 PM GMT+1\n<tr><td> Paris (France) <td> Monday\, August 5 at 9:00 P
 M GMT+2\n<tr><td> Tokyo (Japan) <td> Tuesday\, August 6 at 4:00 AM GMT+9\n
 <tr><td> Corresponding UTC (GMT) <td> Monday\, August 5 at 7:00 PM UTC\n</
 table>\n\n### Logistics\n\nChair: Ada Rose Cannon\n\nScribe:\n\nIRC: [irc.
 w3.org](https://irc.w3.org/):6667 #immersive-web [Instructions](https://gi
 thub.com/immersive-web/administrivia/blob/main/IRC.md)\n\nCall Details can
  be found in the Immersive Web Event Calendars: [WG](https://www.w3.org/gr
 oups/wg/immersive-web/calendar/)/[CG](https://www.w3.org/groups/cg/immersi
 ve-web/calendar/)\n\nYou subscribe to these calendars with your calendar a
 pplication of choice for more convenient access to the call details. See d
 etails at Export options section in [WG](https://www.w3.org/groups/wg/imme
 rsive-web/calendar/#export)/[CG](https://www.w3.org/groups/cg/immersive-we
 b/calendar/#export).\n\nIf you are unable to login to view the call detail
 s please ask on the IRC before the call.\n\n### Help Wanted\n\nHere are so
 me issues which are good issues to get involved in\, if you have taken res
 ponsibility for one leave a comment in the issue:\n\n- [webvr-polyfill-dpd
 b#34 Create a helper script/web page for generating values for a new devic
 e](https://github.com/immersive-web/webvr-polyfill-dpdb/issues/34)\n- [web
 xr-input-profiles#69 Resizing the window changes the model viewer's aspect
  ratio](https://github.com/immersive-web/webxr-input-profiles/issues/69) [
 <small>[Future]</small>](https://api.github.com/repos/immersive-web/webxr-
 input-profiles/milestones/4)\n- [webxr#953 Typescript definitions](https:/
 /github.com/immersive-web/webxr/issues/953) [<small>[Pre-REC]</small>](htt
 ps://api.github.com/repos/immersive-web/webxr/milestones/16)\n- [webxr#111
 5 Explicitly spec when inline animation frame loops are suspended](https:/
 /github.com/immersive-web/webxr/issues/1115) [<small>[Pre-REC]</small>](ht
 tps://api.github.com/repos/immersive-web/webxr/milestones/16)\n- [proposal
 s#82 Some sort of local shared space](https://github.com/immersive-web/pro
 posals/issues/82)
STATUS:CONFIRMED
CREATED:20240805T221206Z
LAST-MODIFIED:20240805T221209Z
SEQUENCE:3
ORGANIZER;CN=W3C Calendar;PARTSTAT=ACCEPTED;ROLE=NON-PARTICIPANT:mailto:nor
 eply@w3.org
ATTENDEE;CUTYPE=GROUP;ROLE=OPT-PARTICIPANT;RSVP=FALSE;CN=Immersive Web Comm
 unity Group:mailto:public-immersive-web@w3.org
ATTENDEE;CUTYPE=GROUP;ROLE=OPT-PARTICIPANT;RSVP=FALSE;CN=Immersive Web Work
 ing Group:mailto:public-immersive-web-wg@w3.org
LOCATION:Teleconference
RECURRENCE-ID;TZID=America/Los_Angeles:20240806T120000
END:VEVENT
END:VCALENDAR
