BEGIN:VCALENDAR
VERSION:2.0
PRODID:-//Sabre//Sabre VObject 4.5.8//EN
CALSCALE:GREGORIAN
LAST-MODIFIED:20240611T120906Z
BEGIN:VTIMEZONE
TZID:America/Los_Angeles
X-MICROSOFT-CDO-TZID:13
BEGIN:STANDARD
DTSTART:20231105T090000
TZOFFSETFROM:-0700
TZOFFSETTO:-0800
TZNAME:PST
END:STANDARD
BEGIN:STANDARD
DTSTART:20241103T090000
TZOFFSETFROM:-0700
TZOFFSETTO:-0800
TZNAME:PST
END:STANDARD
BEGIN:DAYLIGHT
DTSTART:20240310T100000
TZOFFSETFROM:-0800
TZOFFSETTO:-0700
TZNAME:PDT
END:DAYLIGHT
END:VTIMEZONE
BEGIN:VEVENT
UID:12652488-6193-406f-9940-48f13025a2ad
DTSTAMP:20240611T120906Z
SUMMARY:Immersive Web Group Calls
DTSTART;TZID=America/Los_Angeles:20240611T120000
DTEND;TZID=America/Los_Angeles:20240611T130000
DESCRIPTION:https://www.w3.org/events/meetings/12652488-6193-406f-9940-48f1
 3025a2ad/20240611T120000/\n\nHi Everyone\, \n\nI haven't received the sche
 dule email myself and this is my attempt to resend it. Apologies if you al
 ready got the schedule email.\n\nAgenda: https://github.com/immersive-web/
 administrivia/blob/main/meetings/2024/2024-06-11-Immersive_Web_Working_Gro
 up_Teleconference-agenda.md\n\nAgenda\n\n### Call Agenda\n\nThis agenda ca
 n be viewed and updated on [Github](https://github.com/immersive-web/admin
 istrivia/blob/main/meetings/2024/2024-06-11-Immersive_Web_Working_Group_Te
 leconference-agenda.md).\n\nIf you would like to add an item to the agenda
  or volunteer to scribe please open a pull request against this agenda.\n\
 n* [hit-test#117 Use of FrozenArray<>s for return types of methods is prob
 ably unnecessary](https://github.com/immersive-web/hit-test/issues/117) [r
 equested by toji](https://github.com/immersive-web/hit-test/issues/117#iss
 uecomment-2150866464)\n> I think the intent WAS for this to be an optimiza
 tion. It's worth discussing with the larger group\, so queuing this topic 
 up for a future call.\n\n### Immersive Web Working Group Teleconference - 
 2024-06-11\n\n<table>\n<tr><td> San Francisco (U.S.A. - California) <td> T
 uesday\, June 11 at 12:00 PM PDT\n<tr><td> Boston (U.S.A. - Massachusetts)
  <td> Tuesday\, June 11 at 3:00 PM EDT\n<tr><td> London (United Kingdom - 
 England) <td> Tuesday\, June 11 at 8:00 PM GMT+1\n<tr><td> Paris (France) 
 <td> Tuesday\, June 11 at 9:00 PM GMT+2\n<tr><td> Tokyo (Japan) <td> Wedne
 sday\, June 12 at 4:00 AM GMT+9\n<tr><td> Corresponding UTC (GMT) <td> Tue
 sday\, June 11 at 7:00 PM UTC\n</table>\n\n### Logistics\n\nChair: Ada Ros
 e Cannon\n\nScribe:\n\nIRC: [irc.w3.org](https://irc.w3.org/):6667 #immers
 ive-web [Instructions](https://github.com/immersive-web/administrivia/blob
 /main/IRC.md)\n\nCall Details can be found in the Immersive Web Event Cale
 ndars: [WG](https://www.w3.org/groups/wg/immersive-web/calendar/)/[CG](htt
 ps://www.w3.org/groups/cg/immersive-web/calendar/)\n\nYou subscribe to the
 se calendars with your calendar application of choice for more convenient 
 access to the call details. See details at Export options section in [WG](
 https://www.w3.org/groups/wg/immersive-web/calendar/#export)/[CG](https://
 www.w3.org/groups/cg/immersive-web/calendar/#export).\n\nIf you are unable
  to login to view the call details please ask on the IRC before the call.\
 n\n### Help Wanted\n\nHere are some issues which are good issues to get in
 volved in\, if you have taken responsibility for one leave a comment in th
 e issue:\n\n- [webvr-polyfill-dpdb#34 Create a helper script/web page for 
 generating values for a new device](https://github.com/immersive-web/webvr
 -polyfill-dpdb/issues/34)\n- [webxr-input-profiles#69 Resizing the window 
 changes the model viewer's aspect ratio](https://github.com/immersive-web/
 webxr-input-profiles/issues/69) [<small>[Future]</small>](https://api.gith
 ub.com/repos/immersive-web/webxr-input-profiles/milestones/4)\n- [webxr#95
 3 Typescript definitions](https://github.com/immersive-web/webxr/issues/95
 3) [<small>[Pre-REC]</small>](https://api.github.com/repos/immersive-web/w
 ebxr/milestones/16)\n- [webxr#1115 Explicitly spec when inline animation f
 rame loops are suspended](https://github.com/immersive-web/webxr/issues/11
 15) [<small>[Pre-REC]</small>](https://api.github.com/repos/immersive-web/
 webxr/milestones/16)\n- [proposals#82 Some sort of local shared space](htt
 ps://github.com/immersive-web/proposals/issues/82)
STATUS:CONFIRMED
CREATED:20240611T120903Z
LAST-MODIFIED:20240611T120906Z
SEQUENCE:3
ORGANIZER;CN=W3C Calendar;PARTSTAT=ACCEPTED;ROLE=NON-PARTICIPANT:mailto:nor
 eply@w3.org
ATTENDEE;CUTYPE=GROUP;ROLE=OPT-PARTICIPANT;RSVP=FALSE;CN=Immersive Web Comm
 unity Group:mailto:public-immersive-web@w3.org
ATTENDEE;CUTYPE=GROUP;ROLE=OPT-PARTICIPANT;RSVP=FALSE;CN=Immersive Web Work
 ing Group:mailto:public-immersive-web-wg@w3.org
LOCATION:Teleconference
RECURRENCE-ID;TZID=America/Los_Angeles:20240611T120000
END:VEVENT
END:VCALENDAR
