BEGIN:VCALENDAR
VERSION:2.0
PRODID:-//Sabre//Sabre VObject 4.5.8//EN
CALSCALE:GREGORIAN
LAST-MODIFIED:20240514T150952Z
BEGIN:VTIMEZONE
TZID:America/Los_Angeles
X-MICROSOFT-CDO-TZID:13
BEGIN:STANDARD
DTSTART:20231105T090000
TZOFFSETFROM:-0700
TZOFFSETTO:-0800
TZNAME:PST
END:STANDARD
BEGIN:STANDARD
DTSTART:20241103T090000
TZOFFSETFROM:-0700
TZOFFSETTO:-0800
TZNAME:PST
END:STANDARD
BEGIN:DAYLIGHT
DTSTART:20240310T100000
TZOFFSETFROM:-0800
TZOFFSETTO:-0700
TZNAME:PDT
END:DAYLIGHT
END:VTIMEZONE
BEGIN:VEVENT
UID:12652488-6193-406f-9940-48f13025a2ad
DTSTAMP:20240514T150952Z
SUMMARY:Immersive Web Group Calls
DTSTART;TZID=America/Los_Angeles:20240514T120000
DTEND;TZID=America/Los_Angeles:20240514T130000
DESCRIPTION:https://www.w3.org/events/meetings/12652488-6193-406f-9940-48f1
 3025a2ad/20240514T120000/\n\n\n\nAgenda: https://github.com/immersive-web/
 administrivia/blob/main/meetings/2024/2024-05-14-Immersive_Web_Working_Gro
 up_Teleconference-agenda.md\n\nAgenda\n\n### Call Agenda\n\nThis agenda ca
 n be viewed and updated on [Github](https://github.com/immersive-web/admin
 istrivia/blob/main/meetings/2024/2024-05-14-Immersive_Web_Working_Group_Te
 leconference-agenda.md).\n\nIf you would like to add an item to the agenda
  or volunteer to scribe please open a pull request against this agenda.\n\
 n* [model-element#86 Add introduction section](https://github.com/immersiv
 e-web/model-element/pull/86) - zachernuk\n> Included an update of the orig
 inal explainer document's introduction\, showing some rationale for this c
 hoice over alternatives considered.\n >\n\n* [webxr#1367 Republish as CRS 
 - 2024/03](https://github.com/immersive-web/webxr/issues/1367) - himorin\n
 > Our last publication as CRS was [2022-03-31](https://www.w3.org/standard
 s/history/webxr/) and first CRD at 2022-04-26\, so we are reaching to a li
 mit of 24 month period specified in [the Process](https://www.w3.org/2023/
 Process-20231103/#publishing-crrs).\n >\n\n### Immersive Web Working Group
  Teleconference - 2024-05-14\n\n<table>\n<tr><td> San Francisco (U.S.A. - 
 California) <td> Tuesday\, May 14 at 12:00 PM PDT\n<tr><td> Boston (U.S.A.
  - Massachusetts) <td> Tuesday\, May 14 at 3:00 PM EDT\n<tr><td> London (U
 nited Kingdom - England) <td> Tuesday\, May 14 at 8:00 PM GMT+1\n<tr><td> 
 Paris (France) <td> Tuesday\, May 14 at 9:00 PM GMT+2\n<tr><td> Tokyo (Jap
 an) <td> Wednesday\, May 15 at 4:00 AM GMT+9\n<tr><td> Corresponding UTC (
 GMT) <td> Tuesday\, May 14 at 7:00 PM UTC\n</table>\n\n### Logistics\n\nCh
 air: Ada Rose Cannon\n\nScribe:\n\nIRC: [irc.w3.org](https://irc.w3.org/):
 6667 #immersive-web [Instructions](https://github.com/immersive-web/admini
 strivia/blob/main/IRC.md)\n\nCall Details can be found in the Immersive We
 b Event Calendars: [WG](https://www.w3.org/groups/wg/immersive-web/calenda
 r/)/[CG](https://www.w3.org/groups/cg/immersive-web/calendar/)\n\nYou subs
 cribe to these calendars with your calendar application of choice for more
  convenient access to the call details. See details at Export options sect
 ion in [WG](https://www.w3.org/groups/wg/immersive-web/calendar/#export)/[
 CG](https://www.w3.org/groups/cg/immersive-web/calendar/#export).\n\nIf yo
 u are unable to login to view the call details please ask on the IRC befor
 e the call.\n\n### Help Wanted\n\nHere are some issues which are good issu
 es to get involved in\, if you have taken responsibility for one leave a c
 omment in the issue:\n\n- [webvr-polyfill-dpdb#34 Create a helper script/w
 eb page for generating values for a new device](https://github.com/immersi
 ve-web/webvr-polyfill-dpdb/issues/34)\n- [webxr-input-profiles#69 Resizing
  the window changes the model viewer's aspect ratio](https://github.com/im
 mersive-web/webxr-input-profiles/issues/69) [<small>[Future]</small>](http
 s://api.github.com/repos/immersive-web/webxr-input-profiles/milestones/4)\
 n- [webxr#953 Typescript definitions](https://github.com/immersive-web/web
 xr/issues/953) [<small>[Pre-REC]</small>](https://api.github.com/repos/imm
 ersive-web/webxr/milestones/16)\n- [webxr#1115 Explicitly spec when inline
  animation frame loops are suspended](https://github.com/immersive-web/web
 xr/issues/1115) [<small>[Pre-REC]</small>](https://api.github.com/repos/im
 mersive-web/webxr/milestones/16)\n- [proposals#82 Some sort of local share
 d space](https://github.com/immersive-web/proposals/issues/82)
STATUS:CONFIRMED
CREATED:20240514T150948Z
LAST-MODIFIED:20240514T150952Z
SEQUENCE:3
ORGANIZER;CN=W3C Calendar;PARTSTAT=ACCEPTED;ROLE=NON-PARTICIPANT:mailto:nor
 eply@w3.org
ATTENDEE;CUTYPE=GROUP;ROLE=OPT-PARTICIPANT;RSVP=FALSE;CN=Immersive Web Comm
 unity Group:mailto:public-immersive-web@w3.org
ATTENDEE;CUTYPE=GROUP;ROLE=OPT-PARTICIPANT;RSVP=FALSE;CN=Immersive Web Work
 ing Group:mailto:public-immersive-web-wg@w3.org
LOCATION:Teleconference
RECURRENCE-ID;TZID=America/Los_Angeles:20240514T120000
END:VEVENT
END:VCALENDAR
