BEGIN:VCALENDAR
VERSION:2.0
PRODID:-//Sabre//Sabre VObject 4.5.8//EN
CALSCALE:GREGORIAN
LAST-MODIFIED:20240415T185435Z
BEGIN:VTIMEZONE
TZID:America/Los_Angeles
X-MICROSOFT-CDO-TZID:13
BEGIN:STANDARD
DTSTART:20231105T090000
TZOFFSETFROM:-0700
TZOFFSETTO:-0800
TZNAME:PST
END:STANDARD
BEGIN:STANDARD
DTSTART:20241103T090000
TZOFFSETFROM:-0700
TZOFFSETTO:-0800
TZNAME:PST
END:STANDARD
BEGIN:DAYLIGHT
DTSTART:20240310T100000
TZOFFSETFROM:-0800
TZOFFSETTO:-0700
TZNAME:PDT
END:DAYLIGHT
END:VTIMEZONE
BEGIN:VEVENT
UID:12652488-6193-406f-9940-48f13025a2ad
DTSTAMP:20240415T185435Z
SUMMARY:Immersive Web Group Calls
DTSTART;TZID=America/Los_Angeles:20240416T120000
DTEND;TZID=America/Los_Angeles:20240416T130000
DESCRIPTION:https://www.w3.org/events/meetings/12652488-6193-406f-9940-48f1
 3025a2ad/20240416T120000/\n\n\n\nAgenda: https://github.com/immersive-web/
 administrivia/blob/main/meetings/2024/2024-04-16-Immersive-Web-Group-Telec
 onference-Agenda.md\n\nAgenda\n\n### Call Agenda\n\nThis agenda can be vie
 wed and updated on [Github](https://github.com/immersive-web/administrivia
 /blob/main/meetings/wg/2024-04-16-Immersive_Web_Working_Group_Teleconferen
 ce-agenda.md).\n\nIf you would like to add an item to the agenda or volunt
 eer to scribe please open a pull request against this agenda.\n\n* [webxr#
 1368 Use of FrozenArray<>s in dictionaries is unnecessary and bad](https:/
 /github.com/immersive-web/webxr/issues/1368) [requested by AdaRoseCannon](
 https://github.com/immersive-web/webxr/issues/1368#issuecomment-2035722272
 )\n> Bringing it up at the next teleconference call.\n\n### Immersive Web 
 Working Group Teleconference - 2024-04-16\n\n<table>\n<tr><td> San Francis
 co (U.S.A. - California) <td> Tuesday\, April 16 at 12:00 PM PDT\n<tr><td>
  Boston (U.S.A. - Massachusetts) <td> Tuesday\, April 16 at 3:00 PM EDT\n<
 tr><td> London (United Kingdom - England) <td> Tuesday\, April 16 at 8:00 
 PM GMT+1\n<tr><td> Paris (France) <td> Tuesday\, April 16 at 9:00 PM GMT+2
 \n<tr><td> Tokyo (Japan) <td> Wednesday\, April 17 at 4:00 AM GMT+9\n<tr><
 td> Corresponding UTC (GMT) <td> Tuesday\, April 16 at 7:00 PM UTC\n</tabl
 e>\n\n### Logistics\n\nChair: Ada Rose Cannon\n\nScribe:\n\nIRC: [irc.w3.o
 rg](https://irc.w3.org/):6667 #immersive-web [Instructions](https://github
 .com/immersive-web/administrivia/blob/main/IRC.md)\n\nCall Details can be 
 found in the Immersive Web Event Calendars: [WG](https://www.w3.org/groups
 /wg/immersive-web/calendar/)/[CG](https://www.w3.org/groups/cg/immersive-w
 eb/calendar/)\n\nYou subscribe to these calendars with your calendar appli
 cation of choice for more convenient access to the call details. See detai
 ls at Export options section in [WG](https://www.w3.org/groups/wg/immersiv
 e-web/calendar/#export)/[CG](https://www.w3.org/groups/cg/immersive-web/ca
 lendar/#export).\n\nIf you are unable to login to view the call details pl
 ease ask on the IRC before the call.\n\n### Help Wanted\n\nHere are some i
 ssues which are good issues to get involved in\, if you have taken respons
 ibility for one leave a comment in the issue:\n\n- [webvr-polyfill-dpdb#34
  Create a helper script/web page for generating values for a new device](h
 ttps://github.com/immersive-web/webvr-polyfill-dpdb/issues/34)\n- [webxr-i
 nput-profiles#69 Resizing the window changes the model viewer's aspect rat
 io](https://github.com/immersive-web/webxr-input-profiles/issues/69) [<sma
 ll>[Future]</small>](https://api.github.com/repos/immersive-web/webxr-inpu
 t-profiles/milestones/4)\n- [webxr#953 Typescript definitions](https://git
 hub.com/immersive-web/webxr/issues/953) [<small>[Pre-REC]</small>](https:/
 /api.github.com/repos/immersive-web/webxr/milestones/16)\n- [webxr#1115 Ex
 plicitly spec when inline animation frame loops are suspended](https://git
 hub.com/immersive-web/webxr/issues/1115) [<small>[Pre-REC]</small>](https:
 //api.github.com/repos/immersive-web/webxr/milestones/16)\n- [proposals#82
  Some sort of local shared space](https://github.com/immersive-web/proposa
 ls/issues/82)
STATUS:CONFIRMED
CREATED:20240415T185432Z
LAST-MODIFIED:20240415T185435Z
SEQUENCE:3
ORGANIZER;CN=W3C Calendar;PARTSTAT=ACCEPTED;ROLE=NON-PARTICIPANT:mailto:nor
 eply@w3.org
ATTENDEE;CUTYPE=GROUP;ROLE=OPT-PARTICIPANT;RSVP=FALSE;CN=Immersive Web Comm
 unity Group:mailto:public-immersive-web@w3.org
ATTENDEE;CUTYPE=GROUP;ROLE=OPT-PARTICIPANT;RSVP=FALSE;CN=Immersive Web Work
 ing Group:mailto:public-immersive-web-wg@w3.org
LOCATION:Teleconference
RECURRENCE-ID;TZID=America/Los_Angeles:20240416T120000
END:VEVENT
END:VCALENDAR
