BEGIN:VCALENDAR
VERSION:2.0
PRODID:-//Sabre//Sabre VObject 4.5.8//EN
CALSCALE:GREGORIAN
LAST-MODIFIED:20240314T195237Z
BEGIN:VTIMEZONE
TZID:America/Los_Angeles
X-MICROSOFT-CDO-TZID:13
BEGIN:STANDARD
DTSTART:20231105T090000
TZOFFSETFROM:-0700
TZOFFSETTO:-0800
TZNAME:PST
END:STANDARD
BEGIN:STANDARD
DTSTART:20241103T090000
TZOFFSETFROM:-0700
TZOFFSETTO:-0800
TZNAME:PST
END:STANDARD
BEGIN:DAYLIGHT
DTSTART:20240310T100000
TZOFFSETFROM:-0800
TZOFFSETTO:-0700
TZNAME:PDT
END:DAYLIGHT
END:VTIMEZONE
BEGIN:VEVENT
UID:12652488-6193-406f-9940-48f13025a2ad
DTSTAMP:20240314T195237Z
SUMMARY:Immersive Web Group Calls
DTSTART;TZID=America/Los_Angeles:20240319T120000
DTEND;TZID=America/Los_Angeles:20240319T130000
DESCRIPTION:https://www.w3.org/events/meetings/12652488-6193-406f-9940-48f1
 3025a2ad/20240319T120000/\n\nHi Everyone\, \n\nWe are canceling this occur
 ance of our meeting next week since it is very close to our yearly face to
  face meetings. Hope to see you all on F2F.\n\nThanks\,\nChairs\n\nAgenda:
  https://github.com/immersive-web/administrivia/blob/main/meetings/2024/20
 24-01-23-Immersive_Web_Working_Group_Teleconference-agenda.md\n\nAgenda\n\
 n### Call Agenda\n\nThis agenda can be viewed and updated on [Github](http
 s://github.com/immersive-web/administrivia/blob/main/meetings/2024/2024-01
 -23-Immersive_Web_Working_Group_Teleconference-agenda.md).\n\nIf you would
  like to add an item to the agenda or volunteer to scribe please open a pu
 ll request against this agenda.\n\n* [proposals#87 Body tracking API](http
 s://github.com/immersive-web/proposals/issues/87) - cabanier\n> A common f
 eature request is to give developers access to the user's body.\n >I made 
 a proposal here: https://cabanier.github.io/webxr-body-tracking/\n\n### Im
 mersive Web Working Group Teleconference - 2024-01-23\n\nSan Francisco (U.
 S.A. - California)	Tuesday\, January 23 at 11:00 AM PST\nBoston (U.S.A. - 
 Massachusetts)	Tuesday\, January 23 at 2:00 PM EST\nLondon (United Kingdom
  - England)	Tuesday\, January 23 at 7:00 PM GMT\nParis (France)	Tuesday\, 
 January 23 at 8:00 PM GMT+1\nTokyo (Japan)	Wednesday\, January 24 at 4:00 
 AM GMT+9\nCorresponding UTC (GMT)	Tuesday\, January 23 at 7:00 PM UTC\n\n#
 ## Logistics\n\nChair: Ada Rose Cannon\n\nScribe:\n\nIRC: [irc.w3.org](htt
 p://irc.w3.org/):6667 #immersive-web [Instructions](https://github.com/imm
 ersive-web/administrivia/blob/main/IRC.md)\n\nCall Details can be found on
  the [Internal Mailing List](https://lists.w3.org/Archives/Member/internal
 -immersive-web/2019Feb/0002.html)\n\nIf you are unable to login to view th
 e call details please ask on the IRC before the call.\n\nFor assistance go
  to https://mit.webex.com/mit/mc  and on the left navigation bar\, click "
 Support".\n\n### Help Wanted\n\nHere are some issues which are good issues
  to get involved in\, if you have taken responsibility for one leave a com
 ment in the issue:\n\n- [webvr-polyfill-dpdb#34 Create a helper script/web
  page for generating values for a new device](https://github.com/immersive
 -web/webvr-polyfill-dpdb/issues/34)\n- [webxr-input-profiles#69 Resizing t
 he window changes the model viewer's aspect ratio](https://github.com/imme
 rsive-web/webxr-input-profiles/issues/69) [<small>[Future]</small>](https:
 //api.github.com/repos/immersive-web/webxr-input-profiles/milestones/4)\n-
  [webxr#953 Typescript definitions](https://github.com/immersive-web/webxr
 /issues/953) [<small>[Pre-REC]</small>](https://api.github.com/repos/immer
 sive-web/webxr/milestones/16)\n- [webxr#1115 Explicitly spec when inline a
 nimation frame loops are suspended](https://github.com/immersive-web/webxr
 /issues/1115) [<small>[Pre-REC]</small>](https://api.github.com/repos/imme
 rsive-web/webxr/milestones/16)\n- [proposals#82 Some sort of local shared 
 space](https://github.com/immersive-web/proposals/issues/82)
STATUS:CANCELLED
CREATED:20240314T195234Z
LAST-MODIFIED:20240314T195237Z
SEQUENCE:4
ORGANIZER;CN=W3C Calendar;PARTSTAT=ACCEPTED;ROLE=NON-PARTICIPANT:mailto:nor
 eply@w3.org
ATTENDEE;CUTYPE=GROUP;ROLE=OPT-PARTICIPANT;RSVP=FALSE;CN=Immersive Web Comm
 unity Group:mailto:public-immersive-web@w3.org
ATTENDEE;CUTYPE=GROUP;ROLE=OPT-PARTICIPANT;RSVP=FALSE;CN=Immersive Web Work
 ing Group:mailto:public-immersive-web-wg@w3.org
LOCATION:Teleconference
RECURRENCE-ID;TZID=America/Los_Angeles:20240319T120000
END:VEVENT
END:VCALENDAR
