BEGIN:VCALENDAR
VERSION:2.0
PRODID:-//Sabre//Sabre VObject 4.5.8//EN
CALSCALE:GREGORIAN
LAST-MODIFIED:20221102T205515Z
BEGIN:VTIMEZONE
TZID:America/Toronto
BEGIN:STANDARD
DTSTART:20201101T060000
TZOFFSETFROM:-0400
TZOFFSETTO:-0500
TZNAME:EST
END:STANDARD
BEGIN:STANDARD
DTSTART:20211107T060000
TZOFFSETFROM:-0400
TZOFFSETTO:-0500
TZNAME:EST
END:STANDARD
BEGIN:STANDARD
DTSTART:20221106T060000
TZOFFSETFROM:-0400
TZOFFSETTO:-0500
TZNAME:EST
END:STANDARD
BEGIN:DAYLIGHT
DTSTART:20210314T070000
TZOFFSETFROM:-0500
TZOFFSETTO:-0400
TZNAME:EDT
END:DAYLIGHT
BEGIN:DAYLIGHT
DTSTART:20220313T070000
TZOFFSETFROM:-0500
TZOFFSETTO:-0400
TZNAME:EDT
END:DAYLIGHT
BEGIN:DAYLIGHT
DTSTART:20230312T070000
TZOFFSETFROM:-0500
TZOFFSETTO:-0400
TZNAME:EDT
END:DAYLIGHT
END:VTIMEZONE
BEGIN:VEVENT
UID:11e5b965-f918-4037-951f-d1430466a23e
DTSTAMP:20221102T205515Z
SUMMARY:Fixed Layout Accessibility Taskforce
DTSTART;TZID=America/Toronto:20221108T090000
DTEND;TZID=America/Toronto:20221108T100000
DESCRIPTION:https://www.w3.org/events/meetings/11e5b965-f918-4037-951f-d143
 0466a23e/\n\nCancelling this meeting series\, will set up a meeting this m
 onth to review progress and go from there!
STATUS:CANCELLED
CREATED:20221102T205514Z
LAST-MODIFIED:20221102T205515Z
SEQUENCE:0
ORGANIZER;CN=W3C Calendar;PARTSTAT=ACCEPTED;ROLE=NON-PARTICIPANT:mailto:nor
 eply@w3.org
ATTENDEE;CUTYPE=GROUP;ROLE=OPT-PARTICIPANT;RSVP=FALSE;CN=EPUB 3 Working Gro
 up:mailto:public-epub-wg@w3.org
LOCATION:https://mit.zoom.us/j/92468476393?pwd=Yk5ydXZqSTlla01PTkdlZVpuZ1lR
 dz09
RELATED-TO:bae8f585-1f82-42bf-86be-ca083c9f4e0d
RRULE:FREQ=WEEKLY;UNTIL=20221227T140000Z;INTERVAL=2;BYDAY=TU;WKST=MO
END:VEVENT
BEGIN:VEVENT
UID:bae8f585-1f82-42bf-86be-ca083c9f4e0d
DTSTAMP:20221102T205515Z
SUMMARY:Fixed Layout Accessibility Taskforce
DTSTART;TZID=America/Toronto:20210831T090000
DTEND;TZID=America/Toronto:20210831T100000
DESCRIPTION:https://www.w3.org/events/meetings/bae8f585-1f82-42bf-86be-ca08
 3c9f4e0d/\n\nMeeting of the Fixed Layout Accessibility Taskforce. We are e
 xploring best practices for the production of fixed layout EPUB content.
STATUS:CONFIRMED
CREATED:20210817T131222Z
LAST-MODIFIED:20221102T205515Z
SEQUENCE:1
ORGANIZER;CN=W3C Calendar;PARTSTAT=ACCEPTED;ROLE=NON-PARTICIPANT:mailto:nor
 eply@w3.org
ATTENDEE;CUTYPE=GROUP;ROLE=OPT-PARTICIPANT;RSVP=FALSE;CN=EPUB 3 Working Gro
 up:mailto:public-epub-wg@w3.org
LOCATION:https://mit.zoom.us/j/92468476393?pwd=Yk5ydXZqSTlla01PTkdlZVpuZ1lR
 dz09
RRULE:FREQ=WEEKLY;UNTIL=20221025T130000Z;INTERVAL=2;BYDAY=TU;WKST=MO
RELATED-TO:11e5b965-f918-4037-951f-d1430466a23e
END:VEVENT
BEGIN:VEVENT
UID:bae8f585-1f82-42bf-86be-ca083c9f4e0d
DTSTAMP:20210914T144448Z
SUMMARY:Fixed Layout Accessibility Taskforce
DTSTART;TZID=America/Toronto:20210914T090000
DTEND;TZID=America/Toronto:20210914T100000
DESCRIPTION:https://www.w3.org/events/meetings/bae8f585-1f82-42bf-86be-ca08
 3c9f4e0d/20210914T090000/\n\nMeeting of the Fixed Layout Accessibility Tas
 kforce. We are exploring best practices for the production of fixed layout
  EPUB content.
STATUS:CONFIRMED
CREATED:20210914T144448Z
LAST-MODIFIED:20210914T144448Z
SEQUENCE:0
ORGANIZER;CN=W3C Calendar;PARTSTAT=ACCEPTED;ROLE=NON-PARTICIPANT:mailto:nor
 eply@w3.org
ATTENDEE;CUTYPE=GROUP;ROLE=OPT-PARTICIPANT;RSVP=FALSE;CN=EPUB 3 Working Gro
 up:mailto:public-epub-wg@w3.org
LOCATION:https://mit.zoom.us/j/92468476393?pwd=Yk5ydXZqSTlla01PTkdlZVpuZ1lR
 dz09
RECURRENCE-ID;TZID=America/Toronto:20210914T090000
END:VEVENT
BEGIN:VEVENT
UID:bae8f585-1f82-42bf-86be-ca083c9f4e0d
DTSTAMP:20211006T134704Z
SUMMARY:Fixed Layout Accessibility Taskforce
DTSTART;TZID=America/Toronto:20211026T090000
DTEND;TZID=America/Toronto:20211026T100000
DESCRIPTION:https://www.w3.org/events/meetings/bae8f585-1f82-42bf-86be-ca08
 3c9f4e0d/20211026T090000/\n\nMeeting of the Fixed Layout Accessibility Tas
 kforce. We are exploring best practices for the production of fixed layout
  EPUB content.
STATUS:CANCELLED
CREATED:20211006T134703Z
LAST-MODIFIED:20211006T134704Z
SEQUENCE:1
ORGANIZER;CN=W3C Calendar;PARTSTAT=ACCEPTED;ROLE=NON-PARTICIPANT:mailto:nor
 eply@w3.org
ATTENDEE;CUTYPE=GROUP;ROLE=OPT-PARTICIPANT;RSVP=FALSE;CN=EPUB 3 Working Gro
 up:mailto:public-epub-wg@w3.org
LOCATION:https://mit.zoom.us/j/92468476393?pwd=Yk5ydXZqSTlla01PTkdlZVpuZ1lR
 dz09
RECURRENCE-ID;TZID=America/Toronto:20211026T090000
END:VEVENT
BEGIN:VEVENT
UID:bae8f585-1f82-42bf-86be-ca083c9f4e0d
DTSTAMP:20211103T144729Z
SUMMARY:Fixed Layout Accessibility Taskforce
DTSTART;TZID=America/Toronto:20211221T090000
DTEND;TZID=America/Toronto:20211221T100000
DESCRIPTION:https://www.w3.org/events/meetings/bae8f585-1f82-42bf-86be-ca08
 3c9f4e0d/20211221T090000/\n\nMeeting of the Fixed Layout Accessibility Tas
 kforce. We are exploring best practices for the production of fixed layout
  EPUB content.
STATUS:CANCELLED
CREATED:20211103T144728Z
LAST-MODIFIED:20211103T144729Z
SEQUENCE:1
ORGANIZER;CN=W3C Calendar;PARTSTAT=ACCEPTED;ROLE=NON-PARTICIPANT:mailto:nor
 eply@w3.org
ATTENDEE;CUTYPE=GROUP;ROLE=OPT-PARTICIPANT;RSVP=FALSE;CN=EPUB 3 Working Gro
 up:mailto:public-epub-wg@w3.org
LOCATION:https://mit.zoom.us/j/92468476393?pwd=Yk5ydXZqSTlla01PTkdlZVpuZ1lR
 dz09
RECURRENCE-ID;TZID=America/Toronto:20211221T090000
END:VEVENT
BEGIN:VEVENT
UID:bae8f585-1f82-42bf-86be-ca083c9f4e0d
DTSTAMP:20220314T194123Z
SUMMARY:[CANCELED] Fixed Layout Accessibility Taskforce
DTSTART;TZID=America/Toronto:20220315T090000
DTEND;TZID=America/Toronto:20220315T100000
DESCRIPTION:https://www.w3.org/events/meetings/bae8f585-1f82-42bf-86be-ca08
 3c9f4e0d/20220315T090000/\n\nCancelling this week as there is a conflict w
 ith multiple events! See you all in 2 weeks. \n\nMeeting of the Fixed Layo
 ut Accessibility Taskforce. We are exploring best practices for the produc
 tion of fixed layout EPUB content.
STATUS:CANCELLED
CREATED:20220314T194123Z
LAST-MODIFIED:20220314T194123Z
SEQUENCE:1
ORGANIZER;CN=W3C Calendar;PARTSTAT=ACCEPTED;ROLE=NON-PARTICIPANT:mailto:nor
 eply@w3.org
ATTENDEE;CUTYPE=GROUP;ROLE=OPT-PARTICIPANT;RSVP=FALSE;CN=EPUB 3 Working Gro
 up:mailto:public-epub-wg@w3.org
LOCATION:https://mit.zoom.us/j/92468476393?pwd=Yk5ydXZqSTlla01PTkdlZVpuZ1lR
 dz09
RECURRENCE-ID;TZID=America/Toronto:20220315T090000
END:VEVENT
BEGIN:VEVENT
UID:bae8f585-1f82-42bf-86be-ca083c9f4e0d
DTSTAMP:20220727T141510Z
SUMMARY:CANCELLED - Fixed Layout Accessibility Taskforce
DTSTART;TZID=America/Toronto:20220802T090000
DTEND;TZID=America/Toronto:20220802T100000
DESCRIPTION:https://www.w3.org/events/meetings/bae8f585-1f82-42bf-86be-ca08
 3c9f4e0d/20220802T090000/\n\nCancelling this meeting as I will be on vacat
 ion! See you all next time - Wendy \n\nMeeting of the Fixed Layout Accessi
 bility Taskforce. We are exploring best practices for the production of fi
 xed layout EPUB content.
STATUS:CANCELLED
CREATED:20220727T141509Z
LAST-MODIFIED:20220727T141510Z
SEQUENCE:1
ORGANIZER;CN=W3C Calendar;PARTSTAT=ACCEPTED;ROLE=NON-PARTICIPANT:mailto:nor
 eply@w3.org
ATTENDEE;CUTYPE=GROUP;ROLE=OPT-PARTICIPANT;RSVP=FALSE;CN=EPUB 3 Working Gro
 up:mailto:public-epub-wg@w3.org
LOCATION:https://mit.zoom.us/j/92468476393?pwd=Yk5ydXZqSTlla01PTkdlZVpuZ1lR
 dz09
RECURRENCE-ID;TZID=America/Toronto:20220802T090000
END:VEVENT
BEGIN:VEVENT
UID:bae8f585-1f82-42bf-86be-ca083c9f4e0d
DTSTAMP:20220815T210201Z
SUMMARY:Fixed Layout Accessibility Taskforce
DTSTART;TZID=America/Toronto:20220816T090000
DTEND;TZID=America/Toronto:20220816T100000
DESCRIPTION:https://www.w3.org/events/meetings/bae8f585-1f82-42bf-86be-ca08
 3c9f4e0d/20220816T090000/\n\nMeeting of the Fixed Layout Accessibility Tas
 kforce. We are exploring best practices for the production of fixed layout
  EPUB content.
STATUS:CANCELLED
CREATED:20220815T210200Z
LAST-MODIFIED:20220815T210201Z
SEQUENCE:1
ORGANIZER;CN=W3C Calendar;PARTSTAT=ACCEPTED;ROLE=NON-PARTICIPANT:mailto:nor
 eply@w3.org
ATTENDEE;CUTYPE=GROUP;ROLE=OPT-PARTICIPANT;RSVP=FALSE;CN=EPUB 3 Working Gro
 up:mailto:public-epub-wg@w3.org
LOCATION:https://mit.zoom.us/j/92468476393?pwd=Yk5ydXZqSTlla01PTkdlZVpuZ1lR
 dz09
RECURRENCE-ID;TZID=America/Toronto:20220816T090000
END:VEVENT
BEGIN:VEVENT
UID:bae8f585-1f82-42bf-86be-ca083c9f4e0d
DTSTAMP:20220909T141621Z
SUMMARY:Fixed Layout Accessibility Taskforce
DTSTART;TZID=America/Toronto:20220913T090000
DTEND;TZID=America/Toronto:20220913T100000
DESCRIPTION:https://www.w3.org/events/meetings/bae8f585-1f82-42bf-86be-ca08
 3c9f4e0d/20220913T090000/\n\nMeeting of the Fixed Layout Accessibility Tas
 kforce. We are exploring best practices for the production of fixed layout
  EPUB content.
STATUS:CANCELLED
CREATED:20220909T141620Z
LAST-MODIFIED:20220909T141621Z
SEQUENCE:1
ORGANIZER;CN=W3C Calendar;PARTSTAT=ACCEPTED;ROLE=NON-PARTICIPANT:mailto:nor
 eply@w3.org
ATTENDEE;CUTYPE=GROUP;ROLE=OPT-PARTICIPANT;RSVP=FALSE;CN=EPUB 3 Working Gro
 up:mailto:public-epub-wg@w3.org
LOCATION:https://mit.zoom.us/j/92468476393?pwd=Yk5ydXZqSTlla01PTkdlZVpuZ1lR
 dz09
RECURRENCE-ID;TZID=America/Toronto:20220913T090000
END:VEVENT
END:VCALENDAR
