BEGIN:VCALENDAR
VERSION:2.0
PRODID:-//Sabre//Sabre VObject 4.5.8//EN
CALSCALE:GREGORIAN
LAST-MODIFIED:20221102T205515Z
BEGIN:VTIMEZONE
TZID:America/Toronto
BEGIN:DAYLIGHT
DTSTART:20220313T070000
TZOFFSETFROM:-0500
TZOFFSETTO:-0400
TZNAME:EDT
END:DAYLIGHT
BEGIN:DAYLIGHT
DTSTART:20230312T070000
TZOFFSETFROM:-0500
TZOFFSETTO:-0400
TZNAME:EDT
END:DAYLIGHT
BEGIN:STANDARD
DTSTART:20221106T060000
TZOFFSETFROM:-0400
TZOFFSETTO:-0500
TZNAME:EST
END:STANDARD
END:VTIMEZONE
BEGIN:VEVENT
UID:11e5b965-f918-4037-951f-d1430466a23e
DTSTAMP:20221102T205515Z
SUMMARY:Fixed Layout Accessibility Taskforce
DTSTART;TZID=America/Toronto:20221206T090000
DTEND;TZID=America/Toronto:20221206T100000
DESCRIPTION:https://www.w3.org/events/meetings/11e5b965-f918-4037-951f-d143
 0466a23e/20221206T090000/\n\nCancelling this meeting series\, will set up 
 a meeting this month to review progress and go from there!
STATUS:CANCELLED
CREATED:20221102T205514Z
LAST-MODIFIED:20221102T205515Z
SEQUENCE:0
ORGANIZER;CN=W3C Calendar;PARTSTAT=ACCEPTED;ROLE=NON-PARTICIPANT:mailto:nor
 eply@w3.org
ATTENDEE;CUTYPE=GROUP;ROLE=OPT-PARTICIPANT;RSVP=FALSE;CN=EPUB 3 Working Gro
 up:mailto:public-epub-wg@w3.org
LOCATION:https://mit.zoom.us/j/92468476393?pwd=Yk5ydXZqSTlla01PTkdlZVpuZ1lR
 dz09
RECURRENCE-ID;TZID=America/Toronto:20221206T090000
END:VEVENT
END:VCALENDAR
