BEGIN:VCALENDAR
VERSION:2.0
PRODID:-//Sabre//Sabre VObject 4.5.8//EN
CALSCALE:GREGORIAN
LAST-MODIFIED:20210511T135627Z
BEGIN:VTIMEZONE
TZID:America/New_York
X-MICROSOFT-CDO-TZID:10
BEGIN:STANDARD
DTSTART:20201101T060000
TZOFFSETFROM:-0400
TZOFFSETTO:-0500
TZNAME:EST
END:STANDARD
BEGIN:STANDARD
DTSTART:20211107T060000
TZOFFSETFROM:-0400
TZOFFSETTO:-0500
TZNAME:EST
END:STANDARD
BEGIN:DAYLIGHT
DTSTART:20210314T070000
TZOFFSETFROM:-0500
TZOFFSETTO:-0400
TZNAME:EDT
END:DAYLIGHT
END:VTIMEZONE
BEGIN:VEVENT
UID:11d16023-81d8-482f-8651-d8cdff3df6c9
DTSTAMP:20210511T135627Z
SUMMARY:Fixed Layout Accessibility TF
DTSTART;TZID=America/New_York:20210413T090000
DTEND;TZID=America/New_York:20210413T100000
DESCRIPTION:https://www.w3.org/events/meetings/11d16023-81d8-482f-8651-d8cd
 ff3df6c9/\n\nThis task force meets weekly to discuss best practices and is
 sues relating to fixed layout format accessibility in EPUB 3.3. \n\nIRC: #
 epub-fxl
STATUS:CONFIRMED
CREATED:20210407T211754Z
LAST-MODIFIED:20210511T135627Z
SEQUENCE:1
ORGANIZER;CN=W3C Calendar;PARTSTAT=ACCEPTED;ROLE=NON-PARTICIPANT:mailto:nor
 eply@w3.org
ATTENDEE;CUTYPE=GROUP;ROLE=OPT-PARTICIPANT;RSVP=FALSE;CN=EPUB 3 Working Gro
 up:mailto:public-epub-wg@w3.org
RRULE:FREQ=WEEKLY;UNTIL=20210511T130000Z;INTERVAL=1;BYDAY=TU;WKST=MO
RELATED-TO:beb5157d-4cea-49da-b405-3ebe1c7ae5d4
END:VEVENT
BEGIN:VEVENT
UID:beb5157d-4cea-49da-b405-3ebe1c7ae5d4
DTSTAMP:20210511T135626Z
SUMMARY:Fixed Layout Accessibility TF
DTSTART;TZID=America/New_York:20210518T090000
DTEND;TZID=America/New_York:20210518T100000
DESCRIPTION:https://www.w3.org/events/meetings/beb5157d-4cea-49da-b405-3ebe
 1c7ae5d4/\n\nThis task force meets weekly to discuss best practices and is
 sues relating to fixed layout format accessibility in EPUB 3.3. \n\nIRC: #
 epub-fxl
STATUS:CONFIRMED
CREATED:20210511T135626Z
LAST-MODIFIED:20210511T135626Z
SEQUENCE:0
ORGANIZER;CN=W3C Calendar;PARTSTAT=ACCEPTED;ROLE=NON-PARTICIPANT:mailto:nor
 eply@w3.org
ATTENDEE;CUTYPE=GROUP;ROLE=OPT-PARTICIPANT;RSVP=FALSE;CN=EPUB 3 Working Gro
 up:mailto:public-epub-wg@w3.org
RELATED-TO:11d16023-81d8-482f-8651-d8cdff3df6c9
RRULE:FREQ=WEEKLY;UNTIL=20210525T130000Z;INTERVAL=2;BYDAY=TU;WKST=MO
END:VEVENT
END:VCALENDAR
