BEGIN:VCALENDAR
VERSION:2.0
PRODID:-//Sabre//Sabre VObject 4.5.8//EN
CALSCALE:GREGORIAN
LAST-MODIFIED:20221219T123334Z
BEGIN:VTIMEZONE
TZID:Asia/Tokyo
X-MICROSOFT-CDO-TZID:20
BEGIN:STANDARD
DTSTART:20220305T010000
TZOFFSETFROM:+0900
TZOFFSETTO:+0900
TZNAME:JST
END:STANDARD
END:VTIMEZONE
BEGIN:VEVENT
UID:11b4052c-dda8-4f8a-971d-9fc1f421e2f8
DTSTAMP:20221219T123334Z
SUMMARY:JLreq TF call (main)
DTSTART;TZID=Asia/Tokyo:20230228T100000
DTEND;TZID=Asia/Tokyo:20230228T120000
DESCRIPTION:https://www.w3.org/events/meetings/11b4052c-dda8-4f8a-971d-9fc1
 f421e2f8/\n\nJLreq TF call series on Tue 10am JST\, this is main call.\n
 日本語組版タスクフォースの火曜午前10時からの会議で
 す。\n\n注：Zoomミーティングリンクが2021/08/17分より新
 しいものになっています。\nhttps://www.w3.org/2021/04/jlreq-mee
 ting-info.html\nにて確認してください。
STATUS:CONFIRMED
CREATED:20220615T050406Z
LAST-MODIFIED:20221219T123334Z
SEQUENCE:4
ORGANIZER;CN=W3C Calendar;PARTSTAT=ACCEPTED;ROLE=NON-PARTICIPANT:mailto:nor
 eply@w3.org
ATTENDEE;CUTYPE=GROUP;ROLE=OPT-PARTICIPANT;RSVP=FALSE;CN=Japanese Layout Ta
 sk Force | 日本語組版タスクフォース:mailto:public-i18n-japanes
 e@w3.org
LOCATION:https://www.w3.org/2021/04/jlreq-meeting-info.html
END:VEVENT
END:VCALENDAR
