BEGIN:VCALENDAR
VERSION:2.0
PRODID:-//Sabre//Sabre VObject 4.5.8//EN
CALSCALE:GREGORIAN
LAST-MODIFIED:20250508T183605Z
BEGIN:VTIMEZONE
TZID:Etc/UTC
BEGIN:STANDARD
DTSTART:20240507T160000
TZOFFSETFROM:+0000
TZOFFSETTO:+0000
TZNAME:UTC
END:STANDARD
END:VTIMEZONE
BEGIN:VEVENT
UID:11886e81-e945-4858-9000-426668904b5c
DTSTAMP:20250508T183605Z
SUMMARY:WebView CG Meeting
DTSTART;TZID=Etc/UTC:20250502T160000
DTEND;TZID=Etc/UTC:20250502T170000
DESCRIPTION:https://www.w3.org/events/meetings/11886e81-e945-4858-9000-4266
 68904b5c/\n\nLet's meet again and discuss the current state of projects an
 d ideas. If you have anything to discuss let us know!\n\nWe will look at W
 ebView market share data and discuss how we could report that\n\nAgenda: h
 ttps://bit.ly/webview-cg-02-apr-2025\n\nAgenda\n\nDraft\n\n* WebView marke
 t share data\n* Funding\n* CanIWebView updates\n* Whatever you want to add
 ...
STATUS:CONFIRMED
CREATED:20250424T122149Z
LAST-MODIFIED:20250508T183605Z
SEQUENCE:1
ORGANIZER;CN=W3C Calendar;PARTSTAT=ACCEPTED;ROLE=NON-PARTICIPANT:mailto:nor
 eply@w3.org
ATTENDEE;CUTYPE=GROUP;ROLE=OPT-PARTICIPANT;RSVP=FALSE;CN=WebView Community 
 Group:mailto:public-webview@w3.org
END:VEVENT
END:VCALENDAR
