BEGIN:VCALENDAR
VERSION:2.0
PRODID:-//Sabre//Sabre VObject 4.5.8//EN
CALSCALE:GREGORIAN
LAST-MODIFIED:20260324T161412Z
BEGIN:VTIMEZONE
TZID:America/Los_Angeles
X-MICROSOFT-CDO-TZID:13
BEGIN:STANDARD
DTSTART:20251102T090000
TZOFFSETFROM:-0700
TZOFFSETTO:-0800
TZNAME:PST
END:STANDARD
BEGIN:STANDARD
DTSTART:20261101T090000
TZOFFSETFROM:-0700
TZOFFSETTO:-0800
TZNAME:PST
END:STANDARD
BEGIN:DAYLIGHT
DTSTART:20260308T100000
TZOFFSETFROM:-0800
TZOFFSETTO:-0700
TZNAME:PDT
END:DAYLIGHT
END:VTIMEZONE
BEGIN:VEVENT
UID:1187316a-898b-481c-90ba-2c88dd3d4fbe
DTSTAMP:20260324T161412Z
SUMMARY:CCG — VCs for Recognition
DTSTART;TZID=America/Los_Angeles:20260331T080000
DTEND;TZID=America/Los_Angeles:20260331T090000
DESCRIPTION:https://www.w3.org/events/meetings/1187316a-898b-481c-90ba-2c88
 dd3d4fbe/20260331T080000/\n\nThis weekly meeting focuses on the Verifiable
  Issuers and Verifiers work taking place at https://w3c-ccg.github.io/vc-r
 ecognition/\n\nAgenda\n\nWe will begin by continuing to review PR #61 and 
 specifically finish working through the remaining 3 security risk descript
 ions:\n\n- [External Resource Tampering](https://pr-preview.s3.amazonaws.c
 om/w3c-ccg/vc-recognition/pull/61.html#external-resource-tampering)\n- [Ve
 rifying Recognition Chains](https://pr-preview.s3.amazonaws.com/w3c-ccg/vc
 -recognition/pull/61.html#verifying-recognition-chains)\n- [Abuse of Recog
 nized Actions](https://pr-preview.s3.amazonaws.com/w3c-ccg/vc-recognition/
 pull/61.html#abuse-of-recognized-actions)\n\nAfter discussion of the above
  concludes\, we will continue with any remaining open PRs https://github.c
 om/w3c-ccg/vc-recognition/prs\n\nThen (as time)\, we will continue to work
  through open issues at https://github.com/w3c-ccg/vc-recognition/issues\n
 \nJoining Instructions: https://meet.google.com/osb-nmyo-muh\n\nJoining In
 structions\n\nGoogle Meet joining info\nVideo call link: https://meet.goog
 le.com/osb-nmyo-muh\nOr dial: ‪(US) +1 585-491-8440‬ PIN: ‪930 103 0
 46‬#\nMore phone numbers: https://tel.meet/osb-nmyo-muh?pin=115383430083
 7
STATUS:CONFIRMED
CREATED:20260324T161406Z
LAST-MODIFIED:20260324T161412Z
SEQUENCE:6
ORGANIZER;CN=W3C Calendar;PARTSTAT=ACCEPTED;ROLE=NON-PARTICIPANT:mailto:nor
 eply@w3.org
ATTENDEE;CUTYPE=GROUP;ROLE=OPT-PARTICIPANT;RSVP=FALSE;CN=Credentials Commun
 ity Group:mailto:public-credentials@w3.org
RECURRENCE-ID;TZID=America/Los_Angeles:20260331T080000
END:VEVENT
END:VCALENDAR
