BEGIN:VCALENDAR
VERSION:2.0
PRODID:-//Sabre//Sabre VObject 4.5.8//EN
CALSCALE:GREGORIAN
LAST-MODIFIED:20260401T140337Z
BEGIN:VTIMEZONE
TZID:America/Los_Angeles
X-MICROSOFT-CDO-TZID:13
BEGIN:DAYLIGHT
DTSTART:20250309T100000
TZOFFSETFROM:-0800
TZOFFSETTO:-0700
TZNAME:PDT
END:DAYLIGHT
BEGIN:DAYLIGHT
DTSTART:20260308T100000
TZOFFSETFROM:-0800
TZOFFSETTO:-0700
TZNAME:PDT
END:DAYLIGHT
BEGIN:STANDARD
DTSTART:20251102T090000
TZOFFSETFROM:-0700
TZOFFSETTO:-0800
TZNAME:PST
END:STANDARD
END:VTIMEZONE
BEGIN:VEVENT
UID:1187316a-898b-481c-90ba-2c88dd3d4fbe
DTSTAMP:20260401T140337Z
SUMMARY:CCG — VCs for Recognition
DTSTART;TZID=America/Los_Angeles:20260224T080000
DTEND;TZID=America/Los_Angeles:20260224T090000
DESCRIPTION:https://www.w3.org/events/meetings/1187316a-898b-481c-90ba-2c88
 dd3d4fbe/20260224T080000/\n\nThis weekly meeting focuses on the Verifiable
  Issuers and Verifiers work taking place at https://w3c-ccg.github.io/vc-r
 ecognition/\n\nAgenda\n\nWe will continue to work through open issues at h
 ttps://github.com/w3c-ccg/vc-recognition/issues\n\nJoining Instructions: h
 ttps://meet.google.com/osb-nmyo-muh\n\nJoining Instructions\n\nGoogle Meet
  joining info\nVideo call link: https://meet.google.com/osb-nmyo-muh\nOr d
 ial: ‪(US) +1 585-491-8440‬ PIN: ‪930 103 046‬#\nMore phone number
 s: https://tel.meet/osb-nmyo-muh?pin=1153834300837
STATUS:CONFIRMED
CREATED:20260224T160135Z
LAST-MODIFIED:20260401T140337Z
SEQUENCE:7
ORGANIZER;CN=W3C Calendar;PARTSTAT=ACCEPTED;ROLE=NON-PARTICIPANT:mailto:nor
 eply@w3.org
ATTENDEE;CUTYPE=GROUP;ROLE=OPT-PARTICIPANT;RSVP=FALSE;CN=Credentials Commun
 ity Group:mailto:public-credentials@w3.org
RECURRENCE-ID;TZID=America/Los_Angeles:20260224T080000
END:VEVENT
END:VCALENDAR
