BEGIN:VCALENDAR
VERSION:2.0
PRODID:-//Sabre//Sabre VObject 4.5.8//EN
CALSCALE:GREGORIAN
LAST-MODIFIED:20240828T053607Z
BEGIN:VTIMEZONE
TZID:Etc/UTC
BEGIN:STANDARD
DTSTART:20230902T150000
TZOFFSETFROM:+0000
TZOFFSETTO:+0000
TZNAME:UTC
END:STANDARD
END:VTIMEZONE
BEGIN:VEVENT
UID:117ef6c3-5f27-4188-bc12-0fe9ba55ae78
DTSTAMP:20240828T053607Z
SUMMARY:WebRTC WG August 2024 call
DTSTART;TZID=Etc/UTC:20240827T150000
DTEND;TZID=Etc/UTC:20240827T170000
DESCRIPTION:https://www.w3.org/events/meetings/117ef6c3-5f27-4188-bc12-0fe9
 ba55ae78/\n\n\n\nAgenda: https://www.w3.org/2011/04/webrtc/wiki/August_27_
 2024
STATUS:CONFIRMED
CREATED:20240605T082641Z
LAST-MODIFIED:20240828T053607Z
SEQUENCE:1
ORGANIZER;CN=W3C Calendar;PARTSTAT=ACCEPTED;ROLE=NON-PARTICIPANT:mailto:nor
 eply@w3.org
ATTENDEE;CUTYPE=GROUP;ROLE=OPT-PARTICIPANT;RSVP=FALSE;CN=Web Real-Time Comm
 unications Working Group:mailto:public-webrtc@w3.org
END:VEVENT
END:VCALENDAR
