BEGIN:VCALENDAR
VERSION:2.0
PRODID:-//Sabre//Sabre VObject 4.5.8//EN
CALSCALE:GREGORIAN
LAST-MODIFIED:20240927T011113Z
BEGIN:VTIMEZONE
TZID:America/Los_Angeles
X-MICROSOFT-CDO-TZID:13
BEGIN:STANDARD
DTSTART:20231105T090000
TZOFFSETFROM:-0700
TZOFFSETTO:-0800
TZNAME:PST
END:STANDARD
BEGIN:STANDARD
DTSTART:20241103T090000
TZOFFSETFROM:-0700
TZOFFSETTO:-0800
TZNAME:PST
END:STANDARD
BEGIN:DAYLIGHT
DTSTART:20240310T100000
TZOFFSETFROM:-0800
TZOFFSETTO:-0700
TZNAME:PDT
END:DAYLIGHT
END:VTIMEZONE
BEGIN:VEVENT
UID:1124e764-4079-4a2b-a1df-53e762060909
DTSTAMP:20240927T011113Z
SUMMARY:Screen Capture Community Group
DTSTART;TZID=America/Los_Angeles:20240927T110000
DTEND;TZID=America/Los_Angeles:20240927T123000
DESCRIPTION:https://www.w3.org/events/meetings/1124e764-4079-4a2b-a1df-53e7
 62060909/\n\nUnlike our typical meetings\, which are structured discussion
 s of newly proposed Web APIs\, this time we will hold a free-form discussi
 on\, covering any topics related to screen-sharing that participants bring
  up. We will intentionally avoid a fixed agenda\, but to kick off the conv
 ersation\, here are some ideas we could discuss:\n* Capturing a rectangula
 r sub-section of the screen.\n* Comparison of “media-picker” experienc
 es across various browsers and operating systems\, discussing what works a
 nd why.\n* Sharing audio – inconsistencies across surface-types\, operat
 ing systems and browsers.\n* Echo cancellation.\n* The challenges of shari
 ng audio from a multi-window application.\n* The "infinite mirror" effect 
 and how to avoid it.\n* Beyond mere screen-capture\; what about remote con
 trol? Could this ever be possible on the open Web?\n* Any other topics par
 ticipants would like to bring up.\n\nPlease don’t hesitate to mail me at
  eladalon@google.com with any questions you might have\, or even just to m
 ention that you’ll be dropping by.\n\nAgenda: https://www.w3.org/communi
 ty/sccg/2024/09/12/screen-capture-cg-meetings-at-tpac-2024/\n\nAgenda\n\nS
 ee description.
STATUS:CONFIRMED
CREATED:20240614T163449Z
LAST-MODIFIED:20240927T011113Z
SEQUENCE:6
ORGANIZER;CN=W3C Calendar;PARTSTAT=ACCEPTED;ROLE=NON-PARTICIPANT:mailto:nor
 eply@w3.org
ATTENDEE;CUTYPE=GROUP;ROLE=OPT-PARTICIPANT;RSVP=FALSE;CN=Screen Capture Com
 munity Group:mailto:public-sccg@w3.org
LOCATION:4 Concourse Level - Manhattan
CATEGORIES:TPAC 2024,Group Meetings
END:VEVENT
END:VCALENDAR
