BEGIN:VCALENDAR
VERSION:2.0
PRODID:-//Sabre//Sabre VObject 4.5.8//EN
CALSCALE:GREGORIAN
LAST-MODIFIED:20260209T201113Z
BEGIN:VTIMEZONE
TZID:America/Los_Angeles
X-MICROSOFT-CDO-TZID:13
BEGIN:DAYLIGHT
DTSTART:20250309T100000
TZOFFSETFROM:-0800
TZOFFSETTO:-0700
TZNAME:PDT
END:DAYLIGHT
BEGIN:DAYLIGHT
DTSTART:20260308T100000
TZOFFSETFROM:-0800
TZOFFSETTO:-0700
TZNAME:PDT
END:DAYLIGHT
BEGIN:STANDARD
DTSTART:20251102T090000
TZOFFSETFROM:-0700
TZOFFSETTO:-0800
TZNAME:PST
END:STANDARD
END:VTIMEZONE
BEGIN:VEVENT
UID:10671ed2-e755-46bf-8ca3-3518fcf9a1e4
DTSTAMP:20260209T201113Z
SUMMARY:Immersive Web Group Calls
DTSTART;TZID=America/Los_Angeles:20260210T110000
DTEND;TZID=America/Los_Angeles:20260210T120000
DESCRIPTION:https://www.w3.org/events/meetings/10671ed2-e755-46bf-8ca3-3518
 fcf9a1e4/20260210T110000/\n\n\n\nAgenda: https://github.com/immersive-web/
 administrivia/blob/main/meetings/2026/2026-02-10-Immersive_Web_Community_G
 roup_Teleconference-agenda.md\n\nAgenda\n\n### Call Agenda\n\nThis agenda 
 can be viewed and updated on [Github](https://github.com/immersive-web/adm
 inistrivia/blob/main/meetings/2026/2026-02-10-Immersive_Web_Community_Grou
 p_Teleconference-agenda.md).\n\nIf you would like to add an item to the ag
 enda or volunteer to scribe please open a pull request against this agenda
 .\n\n* [webxr#1428 Expose where buttons and other components are located o
 n controllers](https://github.com/immersive-web/webxr/issues/1428) [reques
 ted by cabanier](https://github.com/immersive-web/webxr/issues/1428#issuec
 omment-3844387262)\n> There's currently no way for a WebXR experience to q
 uery/know the positions of the buttons on the controllers. This can be use
 ful for things like rendering tooltips to indicate what each button does. 
 Here's an example video showcasing what that might look like: https://desi
 gningvr.org/2018/10/21/tooltips-for-controller-buttons/\n >\n\n### Immersi
 ve Web Community Group Teleconference - 2026-02-10\n\n<table>\n<tr><td> Sa
 n Francisco (U.S.A. - California) <td> Tuesday\, February 10 at 11:00 AM P
 ST\n<tr><td> Boston (U.S.A. - Massachusetts) <td> Tuesday\, February 10 at
  2:00 PM EST\n<tr><td> London (United Kingdom - England) <td> Tuesday\, Fe
 bruary 10 at 7:00 PM GMT\n<tr><td> Paris (France) <td> Tuesday\, February 
 10 at 8:00 PM GMT+1\n<tr><td> Tokyo (Japan) <td> Wednesday\, February 11 a
 t 4:00 AM GMT+9\n<tr><td> Corresponding UTC (GMT) <td> Tuesday\, February 
 10 at 7:00 PM UTC\n</table>\n\n### Logistics\n\nChair: Ada Rose Cannon\n\n
 Scribe:\n\nIRC: [irc.w3.org](https://irc.w3.org/):6667 #immersive-web [Ins
 tructions](https://github.com/immersive-web/administrivia/blob/main/IRC.md
 )\n\nCall Details can be found in the Immersive Web Event Calendars: [WG](
 https://www.w3.org/groups/wg/immersive-web/calendar/)/[CG](https://www.w3.
 org/groups/cg/immersive-web/calendar/)\n\nYou subscribe to these calendars
  with your calendar application of choice for more convenient access to th
 e call details. See details at Export options section in [WG](https://www.
 w3.org/groups/wg/immersive-web/calendar/#export)/[CG](https://www.w3.org/g
 roups/cg/immersive-web/calendar/#export).\n\nIf you are unable to login to
  view the call details please ask on the IRC before the call.\n\n### Help 
 Wanted\n\nHere are some issues which are good issues to get involved in\, 
 if you have taken responsibility for one leave a comment in the issue:\n\n
 - [webvr-polyfill-dpdb#34 Create a helper script/web page for generating v
 alues for a new device](https://github.com/immersive-web/webvr-polyfill-dp
 db/issues/34)\n- [webxr-input-profiles#69 Resizing the window changes the 
 model viewer's aspect ratio](https://github.com/immersive-web/webxr-input-
 profiles/issues/69) [<small>[Future]</small>](https://api.github.com/repos
 /immersive-web/webxr-input-profiles/milestones/4)\n- [webxr#953 Typescript
  definitions](https://github.com/immersive-web/webxr/issues/953) [<small>[
 Pre-REC]</small>](https://api.github.com/repos/immersive-web/webxr/milesto
 nes/16)\n- [webxr#1115 Explicitly spec when inline animation frame loops a
 re suspended](https://github.com/immersive-web/webxr/issues/1115) [<small>
 [Pre-REC]</small>](https://api.github.com/repos/immersive-web/webxr/milest
 ones/16)\n- [proposals#82 Some sort of local shared space](https://github.
 com/immersive-web/proposals/issues/82)
STATUS:CONFIRMED
CREATED:20260209T201109Z
LAST-MODIFIED:20260209T201113Z
SEQUENCE:3
ORGANIZER;CN=W3C Calendar;PARTSTAT=ACCEPTED;ROLE=NON-PARTICIPANT:mailto:nor
 eply@w3.org
ATTENDEE;CUTYPE=GROUP;ROLE=OPT-PARTICIPANT;RSVP=FALSE;CN=Immersive Web Comm
 unity Group:mailto:public-immersive-web@w3.org
ATTENDEE;CUTYPE=GROUP;ROLE=OPT-PARTICIPANT;RSVP=FALSE;CN=Immersive Web Work
 ing Group:mailto:public-immersive-web-wg@w3.org
RECURRENCE-ID;TZID=America/Los_Angeles:20260210T110000
END:VEVENT
END:VCALENDAR
