BEGIN:VCALENDAR
VERSION:2.0
PRODID:-//Sabre//Sabre VObject 4.5.8//EN
CALSCALE:GREGORIAN
LAST-MODIFIED:20260112T190531Z
BEGIN:VTIMEZONE
TZID:America/Los_Angeles
X-MICROSOFT-CDO-TZID:13
BEGIN:DAYLIGHT
DTSTART:20250309T100000
TZOFFSETFROM:-0800
TZOFFSETTO:-0700
TZNAME:PDT
END:DAYLIGHT
BEGIN:DAYLIGHT
DTSTART:20260308T100000
TZOFFSETFROM:-0800
TZOFFSETTO:-0700
TZNAME:PDT
END:DAYLIGHT
BEGIN:STANDARD
DTSTART:20251102T090000
TZOFFSETFROM:-0700
TZOFFSETTO:-0800
TZNAME:PST
END:STANDARD
END:VTIMEZONE
BEGIN:VEVENT
UID:10671ed2-e755-46bf-8ca3-3518fcf9a1e4
DTSTAMP:20260112T190531Z
SUMMARY:Immersive Web Group Calls
DTSTART;TZID=America/Los_Angeles:20260113T110000
DTEND;TZID=America/Los_Angeles:20260113T120000
DESCRIPTION:https://www.w3.org/events/meetings/10671ed2-e755-46bf-8ca3-3518
 fcf9a1e4/20260113T110000/\n\n\n\nAgenda: https://github.com/immersive-web/
 administrivia/blob/main/meetings/2026/2026-01-13-Immersive_Web_Community_G
 roup_Teleconference-agenda.md\n\nAgenda\n\n### Call Agenda\n\nThis agenda 
 can be viewed and updated on [Github](https://github.com/immersive-web/adm
 inistrivia/blob/main/meetings/2026/2026-01-13-Immersive_Web_Community_Grou
 p_Teleconference-agenda.md).\n\nIf you would like to add an item to the ag
 enda or volunteer to scribe please open a pull request against this agenda
 .\n\n* [model-element#143 Environment maps: Add cubemap support alongside 
 equirectangular images](https://github.com/immersive-web/model-element/iss
 ues/143) - mwyrzykowski\n> In the [explainer](https://github.com/immersive
 -web/model-element/blob/main/explainer.md#dom-api)\, it indicates the envi
 ronment map is specified as an equirectangular image.\n >\n\n* [layers#323
  Allow UserAgents to specify a maximum number of layers that can be set](h
 ttps://github.com/immersive-web/layers/issues/323) [requested by alcooper9
 1](https://github.com/immersive-web/layers/issues/323#issuecomment-3730716
 860)\n> to discuss this proposal and bikeshed the attribute names if it's 
 acceptable.\n\n### Immersive Web Community Group Teleconference - 2026-01-
 13\n\n<table>\n<tr><td> San Francisco (U.S.A. - California) <td> Tuesday\,
  January 13 at 11:00 AM PST\n<tr><td> Boston (U.S.A. - Massachusetts) <td>
  Tuesday\, January 13 at 2:00 PM EST\n<tr><td> London (United Kingdom - En
 gland) <td> Tuesday\, January 13 at 7:00 PM GMT\n<tr><td> Paris (France) <
 td> Tuesday\, January 13 at 8:00 PM GMT+1\n<tr><td> Tokyo (Japan) <td> Wed
 nesday\, January 14 at 4:00 AM GMT+9\n<tr><td> Corresponding UTC (GMT) <td
 > Tuesday\, January 13 at 7:00 PM UTC\n</table>\n\n### Logistics\n\nChair:
  Ada Rose Cannon\n\nScribe:\n\nIRC: [irc.w3.org](https://irc.w3.org/):6667
  #immersive-web [Instructions](https://github.com/immersive-web/administri
 via/blob/main/IRC.md)\n\nCall Details can be found in the Immersive Web Ev
 ent Calendars: [WG](https://www.w3.org/groups/wg/immersive-web/calendar/)/
 [CG](https://www.w3.org/groups/cg/immersive-web/calendar/)\n\nYou subscrib
 e to these calendars with your calendar application of choice for more con
 venient access to the call details. See details at Export options section 
 in [WG](https://www.w3.org/groups/wg/immersive-web/calendar/#export)/[CG](
 https://www.w3.org/groups/cg/immersive-web/calendar/#export).\n\nIf you ar
 e unable to login to view the call details please ask on the IRC before th
 e call.\n\n### Help Wanted\n\nHere are some issues which are good issues t
 o get involved in\, if you have taken responsibility for one leave a comme
 nt in the issue:\n\n- [webvr-polyfill-dpdb#34 Create a helper script/web p
 age for generating values for a new device](https://github.com/immersive-w
 eb/webvr-polyfill-dpdb/issues/34)\n- [webxr-input-profiles#69 Resizing the
  window changes the model viewer's aspect ratio](https://github.com/immers
 ive-web/webxr-input-profiles/issues/69) [<small>[Future]</small>](https://
 api.github.com/repos/immersive-web/webxr-input-profiles/milestones/4)\n- [
 webxr#953 Typescript definitions](https://github.com/immersive-web/webxr/i
 ssues/953) [<small>[Pre-REC]</small>](https://api.github.com/repos/immersi
 ve-web/webxr/milestones/16)\n- [webxr#1115 Explicitly spec when inline ani
 mation frame loops are suspended](https://github.com/immersive-web/webxr/i
 ssues/1115) [<small>[Pre-REC]</small>](https://api.github.com/repos/immers
 ive-web/webxr/milestones/16)\n- [proposals#82 Some sort of local shared sp
 ace](https://github.com/immersive-web/proposals/issues/82)
STATUS:CONFIRMED
CREATED:20260112T190525Z
LAST-MODIFIED:20260112T190531Z
SEQUENCE:3
ORGANIZER;CN=W3C Calendar;PARTSTAT=ACCEPTED;ROLE=NON-PARTICIPANT:mailto:nor
 eply@w3.org
ATTENDEE;CUTYPE=GROUP;ROLE=OPT-PARTICIPANT;RSVP=FALSE;CN=Immersive Web Comm
 unity Group:mailto:public-immersive-web@w3.org
ATTENDEE;CUTYPE=GROUP;ROLE=OPT-PARTICIPANT;RSVP=FALSE;CN=Immersive Web Work
 ing Group:mailto:public-immersive-web-wg@w3.org
RECURRENCE-ID;TZID=America/Los_Angeles:20260113T110000
END:VEVENT
END:VCALENDAR
