BEGIN:VCALENDAR
VERSION:2.0
PRODID:-//Sabre//Sabre VObject 4.5.8//EN
CALSCALE:GREGORIAN
LAST-MODIFIED:20251201T213304Z
BEGIN:VTIMEZONE
TZID:America/Los_Angeles
X-MICROSOFT-CDO-TZID:13
BEGIN:DAYLIGHT
DTSTART:20250309T100000
TZOFFSETFROM:-0800
TZOFFSETTO:-0700
TZNAME:PDT
END:DAYLIGHT
BEGIN:DAYLIGHT
DTSTART:20260308T100000
TZOFFSETFROM:-0800
TZOFFSETTO:-0700
TZNAME:PDT
END:DAYLIGHT
BEGIN:STANDARD
DTSTART:20251102T090000
TZOFFSETFROM:-0700
TZOFFSETTO:-0800
TZNAME:PST
END:STANDARD
END:VTIMEZONE
BEGIN:VEVENT
UID:10671ed2-e755-46bf-8ca3-3518fcf9a1e4
DTSTAMP:20251201T213304Z
SUMMARY:Immersive Web Group Calls
DTSTART;TZID=America/Los_Angeles:20251202T110000
DTEND;TZID=America/Los_Angeles:20251202T120000
DESCRIPTION:https://www.w3.org/events/meetings/10671ed2-e755-46bf-8ca3-3518
 fcf9a1e4/20251202T110000/\n\n### Call Agenda\n\nThis agenda can be viewed 
 and updated on [Github](https://github.com/immersive-web/administrivia/blo
 b/main/meetings/2025/2025-12-02-Immersive_Web_Working_Group_Teleconference
 -agenda.md).\n\nIf you would like to add an item to the agenda or voluntee
 r to scribe please open a pull request against this agenda.\n\n* [marker-t
 racking#18 Marker tracking in WebXR](https://github.com/immersive-web/mark
 er-tracking/issues/18) [requested by AdaRoseCannon](https://github.com/imm
 ersive-web/marker-tracking/issues/18#issuecomment-3565014984)\n> to maybe 
 settle on QR codes??\n\n* [plane-detection#45 Migrate to WG?](https://gith
 ub.com/immersive-web/plane-detection/issues/45) [requested by alcooper91](
 https://github.com/immersive-web/plane-detection/issues/45#issuecomment-35
 72810809)\n> I believe we intend to move this to the WG pending a CFP\; bu
 t we appear to only have one editor listed.\n\n* [webxr-test-api#90 State 
 of WebXR cross-vendor testing](https://github.com/immersive-web/webxr-test
 -api/issues/90) [requested by AdaRoseCannon](https://github.com/immersive-
 web/webxr-test-api/issues/90#issuecomment-3564411635)\n> to follow up with
  checks for this\n\n* [webxr-hand-input#127 Surface hand meshes](https://g
 ithub.com/immersive-web/webxr-hand-input/issues/127) [requested by AdaRose
 Cannon](https://github.com/immersive-web/webxr-hand-input/issues/127#issue
 comment-3565112426)\n> sorry didn't get to it during the face to face\n\n\
 n### Immersive Web Working Group Teleconference - 2025-12-02\n\n<table>\n<
 tr><td> San Francisco (U.S.A. - California) <td> Tuesday\, December 2 at 1
 1:00 AM PST\n<tr><td> Boston (U.S.A. - Massachusetts) <td> Tuesday\, Decem
 ber 2 at 2:00 PM EST\n<tr><td> London (United Kingdom - England) <td> Tues
 day\, December 2 at 7:00 PM GMT\n<tr><td> Paris (France) <td> Tuesday\, De
 cember 2 at 8:00 PM GMT+1\n<tr><td> Tokyo (Japan) <td> Wednesday\, Decembe
 r 3 at 4:00 AM GMT+9\n<tr><td> Corresponding UTC (GMT) <td> Tuesday\, Dece
 mber 2 at 7:00 PM UTC\n</table>\n\n### Logistics\n\nChair: Ada Rose Cannon
 \n\nScribe:\n\nIRC: [irc.w3.org](https://irc.w3.org/):6667 #immersive-web 
 [Instructions](https://github.com/immersive-web/administrivia/blob/main/IR
 C.md)\n\nCall Details can be found in the Immersive Web Event Calendars: [
 WG](https://www.w3.org/groups/wg/immersive-web/calendar/)/[CG](https://www
 .w3.org/groups/cg/immersive-web/calendar/)\n\nYou subscribe to these calen
 dars with your calendar application of choice for more convenient access t
 o the call details. See details at Export options section in [WG](https://
 www.w3.org/groups/wg/immersive-web/calendar/#export)/[CG](https://www.w3.o
 rg/groups/cg/immersive-web/calendar/#export).\n\nIf you are unable to logi
 n to view the call details please ask on the IRC before the call.\n\n### H
 elp Wanted\n\nHere are some issues which are good issues to get involved i
 n\, if you have taken responsibility for one leave a comment in the issue:
 \n\n- [webvr-polyfill-dpdb#34 Create a helper script/web page for generati
 ng values for a new device](https://github.com/immersive-web/webvr-polyfil
 l-dpdb/issues/34)\n- [webxr-input-profiles#69 Resizing the window changes 
 the model viewer's aspect ratio](https://github.com/immersive-web/webxr-in
 put-profiles/issues/69) [<small>[Future]</small>](https://api.github.com/r
 epos/immersive-web/webxr-input-profiles/milestones/4)\n- [webxr#953 Typesc
 ript definitions](https://github.com/immersive-web/webxr/issues/953) [<sma
 ll>[Pre-REC]</small>](https://api.github.com/repos/immersive-web/webxr/mil
 estones/16)\n- [webxr#1115 Explicitly spec when inline animation frame loo
 ps are suspended](https://github.com/immersive-web/webxr/issues/1115) [<sm
 all>[Pre-REC]</small>](https://api.github.com/repos/immersive-web/webxr/mi
 lestones/16)\n- [proposals#82 Some sort of local shared space](https://git
 hub.com/immersive-web/proposals/issues/82)\n\nAgenda: https://github.com/i
 mmersive-web/administrivia/blob/main/meetings/2025/2025-12-02-Immersive_We
 b_Working_Group_Teleconference-agenda.md
STATUS:CONFIRMED
CREATED:20251201T213259Z
LAST-MODIFIED:20251201T213304Z
SEQUENCE:3
ORGANIZER;CN=W3C Calendar;PARTSTAT=ACCEPTED;ROLE=NON-PARTICIPANT:mailto:nor
 eply@w3.org
ATTENDEE;CUTYPE=GROUP;ROLE=OPT-PARTICIPANT;RSVP=FALSE;CN=Immersive Web Comm
 unity Group:mailto:public-immersive-web@w3.org
ATTENDEE;CUTYPE=GROUP;ROLE=OPT-PARTICIPANT;RSVP=FALSE;CN=Immersive Web Work
 ing Group:mailto:public-immersive-web-wg@w3.org
RECURRENCE-ID;TZID=America/Los_Angeles:20251202T110000
END:VEVENT
END:VCALENDAR
