BEGIN:VCALENDAR
VERSION:2.0
PRODID:-//Sabre//Sabre VObject 4.5.8//EN
CALSCALE:GREGORIAN
LAST-MODIFIED:20230707T150221Z
BEGIN:VTIMEZONE
TZID:Asia/Tokyo
X-MICROSOFT-CDO-TZID:20
BEGIN:STANDARD
DTSTART:20220712T140000
TZOFFSETFROM:+0900
TZOFFSETTO:+0900
TZNAME:JST
END:STANDARD
END:VTIMEZONE
BEGIN:VEVENT
UID:0ff6a4d9-67cf-478d-8232-bbe8e696b4c5
DTSTAMP:20230707T150221Z
SUMMARY:Publishing Maintenance Working Group Telco
DTSTART;TZID=Asia/Tokyo:20230707T230000
DTEND;TZID=Asia/Tokyo:20230708T000000
DESCRIPTION:https://www.w3.org/events/meetings/0ff6a4d9-67cf-478d-8232-bbe8
 e696b4c5/20230707T230000/\n\n\n\nAgenda: https://lists.w3.org/Archives/Pub
 lic/public-pm-wg/2023Jul/0000.html
STATUS:CONFIRMED
CREATED:20230707T061830Z
LAST-MODIFIED:20230707T150221Z
SEQUENCE:2
ORGANIZER;CN=W3C Calendar;PARTSTAT=ACCEPTED;ROLE=NON-PARTICIPANT:mailto:nor
 eply@w3.org
ATTENDEE;CUTYPE=GROUP;ROLE=OPT-PARTICIPANT;RSVP=FALSE;CN=Publishing Mainten
 ance Working Group:mailto:public-pm-wg@w3.org
RECURRENCE-ID;TZID=Asia/Tokyo:20230707T230000
END:VEVENT
END:VCALENDAR
