BEGIN:VCALENDAR
VERSION:2.0
PRODID:-//Sabre//Sabre VObject 4.5.8//EN
CALSCALE:GREGORIAN
LAST-MODIFIED:20250326T071730Z
BEGIN:VTIMEZONE
TZID:Etc/UTC
BEGIN:STANDARD
DTSTART:20240330T150000
TZOFFSETFROM:+0000
TZOFFSETTO:+0000
TZNAME:UTC
END:STANDARD
END:VTIMEZONE
BEGIN:VEVENT
UID:0fe22579-f41c-4cc5-b7f8-2665a9cb75d0
DTSTAMP:20250326T071730Z
SUMMARY:WebRTC WG March 2025 call
DTSTART;TZID=Etc/UTC:20250325T150000
DTEND;TZID=Etc/UTC:20250325T170000
DESCRIPTION:https://www.w3.org/events/meetings/0fe22579-f41c-4cc5-b7f8-2665
 a9cb75d0/\n\n\n\nAgenda: https://www.w3.org/2011/04/webrtc/wiki/March_25_2
 025
STATUS:CONFIRMED
CREATED:20241210T131101Z
LAST-MODIFIED:20250326T071730Z
SEQUENCE:2
ORGANIZER;CN=W3C Calendar;PARTSTAT=ACCEPTED;ROLE=NON-PARTICIPANT:mailto:nor
 eply@w3.org
ATTENDEE;CUTYPE=GROUP;ROLE=OPT-PARTICIPANT;RSVP=FALSE;CN=Web Real-Time Comm
 unications Working Group:mailto:public-webrtc@w3.org
END:VEVENT
END:VCALENDAR
