BEGIN:VCALENDAR
VERSION:2.0
PRODID:-//Sabre//Sabre VObject 4.5.8//EN
CALSCALE:GREGORIAN
LAST-MODIFIED:20251103T174449Z
BEGIN:VTIMEZONE
TZID:Asia/Tokyo
X-MICROSOFT-CDO-TZID:20
BEGIN:STANDARD
DTSTART:20241119T000000
TZOFFSETFROM:+0900
TZOFFSETTO:+0900
TZNAME:JST
END:STANDARD
END:VTIMEZONE
BEGIN:VEVENT
UID:0f587939-6cab-4c8f-97b7-153a58d602f0
DTSTAMP:20251103T174449Z
SUMMARY:Verifiable Credentials WG
DTSTART;TZID=Asia/Tokyo:20251114T090000
DTEND;TZID=Asia/Tokyo:20251114T123000
DESCRIPTION:https://www.w3.org/events/meetings/0f587939-6cab-4c8f-97b7-153a
 58d602f0/\n\n\n\nAgenda\n\n9:00 - 9:15	Chairs Introduction and logistics\n
 9:15 - 9:45	Re-Charter: triage possible work items\n9:45 - 10:30	Re-Charte
 r: evaluate possible work items\n10:30 - 11:00	Break\n11:00 - 11:45	Workin
 g Session: Render Method\n11:45 - 12:30	Working Session: Confidence Method
STATUS:CONFIRMED
CREATED:20250716T142328Z
LAST-MODIFIED:20251103T174449Z
SEQUENCE:7
ORGANIZER;CN=W3C Calendar;PARTSTAT=ACCEPTED;ROLE=NON-PARTICIPANT:mailto:nor
 eply@w3.org
ATTENDEE;CUTYPE=GROUP;ROLE=OPT-PARTICIPANT;RSVP=FALSE;CN=Verifiable Credent
 ials Working Group:mailto:public-vc-wg@w3.org
LOCATION:Floor 5 - 503
CATEGORIES:TPAC 2025,Group Meetings
END:VEVENT
END:VCALENDAR
