BEGIN:VCALENDAR
VERSION:2.0
PRODID:-//Sabre//Sabre VObject 4.5.8//EN
CALSCALE:GREGORIAN
LAST-MODIFIED:20240708T100408Z
BEGIN:VTIMEZONE
TZID:Europe/Dublin
BEGIN:DAYLIGHT
DTSTART:20231029T010000
TZOFFSETFROM:+0100
TZOFFSETTO:+0000
TZNAME:GMT
END:DAYLIGHT
BEGIN:DAYLIGHT
DTSTART:20241027T010000
TZOFFSETFROM:+0100
TZOFFSETTO:+0000
TZNAME:GMT
END:DAYLIGHT
BEGIN:STANDARD
DTSTART:20240331T010000
TZOFFSETFROM:+0000
TZOFFSETTO:+0100
TZNAME:IST
END:STANDARD
END:VTIMEZONE
BEGIN:VEVENT
UID:0f0fbb7f-df36-4325-b39b-60e0eac5c8b7
DTSTAMP:20240708T100408Z
SUMMARY:DPVCG Meeting Call 10 JUL 2024
DTSTART;TZID=Europe/Dublin:20240710T140000
DTEND;TZID=Europe/Dublin:20240710T150000
DESCRIPTION:https://www.w3.org/events/meetings/0f0fbb7f-df36-4325-b39b-60e0
 eac5c8b7/20240710T140000/\n\nThis is the weekly DPVCG meeting call\n\nAgen
 da: https://www.w3.org/events/meetings/0f0fbb7f-df36-4325-b39b-60e0eac5c8b
 7/20240710T140000/\n\nAgenda\n\nPrevious minutes: https://w3id.org/dpv/mee
 tings/meeting-2024-07-03\n\n- DPV 2.0 Beta Release https://lists.w3.org/Ar
 chives/Public/public-dpvcg/2024Jul/0000.html\n- resolve issue: update diag
 rams https://github.com/w3c/dpv/issues/166\n- resolve issue: preserve vers
 ions of DPV https://github.com/w3c/dpv/issues/45\n- Decide on future tasks
  and roadmap: see open issues in 2.1 milestone https://github.com/w3c/dpv/
 milestone/5\n- collaboration with ODRL CG - proposed meeting - RSVP by JUL
 -17\n\nJoining Instructions: https://dcu-ie.zoom.us/j/92216714069?pwd=NUIr
 ZWFmWDF0bExhU3V2ak43L3lrUT09
STATUS:CONFIRMED
CREATED:20240708T100407Z
LAST-MODIFIED:20240708T100408Z
SEQUENCE:1
ORGANIZER;CN=W3C Calendar;PARTSTAT=ACCEPTED;ROLE=NON-PARTICIPANT:mailto:nor
 eply@w3.org
ATTENDEE;CUTYPE=GROUP;ROLE=OPT-PARTICIPANT;RSVP=FALSE;CN=Data Privacy Vocab
 ularies and Controls Community Group:mailto:public-dpvcg@w3.org
RECURRENCE-ID;TZID=Europe/Dublin:20240710T140000
END:VEVENT
END:VCALENDAR
