BEGIN:VCALENDAR
VERSION:2.0
PRODID:-//Sabre//Sabre VObject 4.5.8//EN
CALSCALE:GREGORIAN
LAST-MODIFIED:20240507T211045Z
BEGIN:VTIMEZONE
TZID:Europe/Dublin
BEGIN:DAYLIGHT
DTSTART:20231029T010000
TZOFFSETFROM:+0100
TZOFFSETTO:+0000
TZNAME:GMT
END:DAYLIGHT
BEGIN:DAYLIGHT
DTSTART:20241027T010000
TZOFFSETFROM:+0100
TZOFFSETTO:+0000
TZNAME:GMT
END:DAYLIGHT
BEGIN:STANDARD
DTSTART:20240331T010000
TZOFFSETFROM:+0000
TZOFFSETTO:+0100
TZNAME:IST
END:STANDARD
END:VTIMEZONE
BEGIN:VEVENT
UID:0f0fbb7f-df36-4325-b39b-60e0eac5c8b7
DTSTAMP:20240507T211045Z
SUMMARY:DPVCG Meeting Call 08 May 2024
DTSTART;TZID=Europe/Dublin:20240508T140000
DTEND;TZID=Europe/Dublin:20240508T150000
DESCRIPTION:https://www.w3.org/events/meetings/0f0fbb7f-df36-4325-b39b-60e0
 eac5c8b7/20240508T140000/\n\nThis is the weekly DPVCG meeting call\n\nAgen
 da: https://www.w3.org/events/meetings/0f0fbb7f-df36-4325-b39b-60e0eac5c8b
 7/20240508T140000/\n\nAgenda\n\nPrevious minutes: https://w3id.org/dpv/mee
 tings/meeting-2024-05-01\n\n- justifications: https://github.com/w3c/dpv/i
 ssues/83 \n- measures for consent obtain\, withdraw etc. https://github.co
 m/w3c/dpv/issues/115 - change to generic controls\n- Tech extension and AI
  extension - https://github.com/w3c/dpv/issues/126\n- Tech extension - htt
 ps://github.com/w3c/dpv/issues/47 - update\n- Modelling TOMs from ISO 27K 
 and NIS2 - https://github.com/w3c/dpv/issues/123\n- Express 'goal' or 'pur
 pose' of technology - https://github.com/w3c/dpv/issues/85\n- DPV v2 relea
 se schedule https://github.com/w3c/dpv/milestone/4\n- AOB\n\nJoining Instr
 uctions: https://dcu-ie.zoom.us/j/92216714069?pwd=NUIrZWFmWDF0bExhU3V2ak43
 L3lrUT09
STATUS:CONFIRMED
CREATED:20240507T211044Z
LAST-MODIFIED:20240507T211045Z
SEQUENCE:1
ORGANIZER;CN=W3C Calendar;PARTSTAT=ACCEPTED;ROLE=NON-PARTICIPANT:mailto:nor
 eply@w3.org
ATTENDEE;CUTYPE=GROUP;ROLE=OPT-PARTICIPANT;RSVP=FALSE;CN=Data Privacy Vocab
 ularies and Controls Community Group:mailto:public-dpvcg@w3.org
RECURRENCE-ID;TZID=Europe/Dublin:20240508T140000
END:VEVENT
END:VCALENDAR
