BEGIN:VCALENDAR
VERSION:2.0
PRODID:-//Sabre//Sabre VObject 4.5.8//EN
CALSCALE:GREGORIAN
LAST-MODIFIED:20231213T075112Z
BEGIN:VTIMEZONE
TZID:Etc/UTC
BEGIN:STANDARD
DTSTART:20221217T160000
TZOFFSETFROM:+0000
TZOFFSETTO:+0000
TZNAME:UTC
END:STANDARD
END:VTIMEZONE
BEGIN:VEVENT
UID:0ea65099-038e-4864-a2f0-a84cdfdd4f5a
DTSTAMP:20231213T075112Z
SUMMARY:WebRTC WG December 2023 call
DTSTART;TZID=Etc/UTC:20231212T160000
DTEND;TZID=Etc/UTC:20231212T180000
DESCRIPTION:https://www.w3.org/events/meetings/0ea65099-038e-4864-a2f0-a84c
 dfdd4f5a/\n\n\n\nAgenda: https://www.w3.org/2011/04/webrtc/wiki/December_1
 2_2023
STATUS:CONFIRMED
CREATED:20230424T065021Z
LAST-MODIFIED:20231213T075112Z
SEQUENCE:2
ORGANIZER;CN=W3C Calendar;PARTSTAT=ACCEPTED;ROLE=NON-PARTICIPANT:mailto:nor
 eply@w3.org
ATTENDEE;CUTYPE=GROUP;ROLE=OPT-PARTICIPANT;RSVP=FALSE;CN=Web Real-Time Comm
 unications Working Group:mailto:public-webrtc@w3.org
END:VEVENT
END:VCALENDAR
