BEGIN:VCALENDAR
VERSION:2.0
PRODID:-//Sabre//Sabre VObject 4.5.8//EN
CALSCALE:GREGORIAN
LAST-MODIFIED:20240424T071050Z
BEGIN:VTIMEZONE
TZID:Etc/UTC
BEGIN:STANDARD
DTSTART:20230429T150000
TZOFFSETFROM:+0000
TZOFFSETTO:+0000
TZNAME:UTC
END:STANDARD
END:VTIMEZONE
BEGIN:VEVENT
UID:0ea1a6c8-1798-4ba9-b423-4aeda4b6cc86
DTSTAMP:20240424T071050Z
SUMMARY:WebRTC WG April 2024 call
DTSTART;TZID=Etc/UTC:20240423T150000
DTEND;TZID=Etc/UTC:20240423T170000
DESCRIPTION:https://www.w3.org/events/meetings/0ea1a6c8-1798-4ba9-b423-4aed
 a4b6cc86/\n\n\n\nAgenda: https://www.w3.org/2011/04/webrtc/wiki/April_23_2
 024
STATUS:CONFIRMED
CREATED:20240111T072156Z
LAST-MODIFIED:20240424T071050Z
SEQUENCE:1
ORGANIZER;CN=W3C Calendar;PARTSTAT=ACCEPTED;ROLE=NON-PARTICIPANT:mailto:nor
 eply@w3.org
ATTENDEE;CUTYPE=GROUP;ROLE=OPT-PARTICIPANT;RSVP=FALSE;CN=Web Real-Time Comm
 unications Working Group:mailto:public-webrtc@w3.org
END:VEVENT
END:VCALENDAR
