BEGIN:VCALENDAR
VERSION:2.0
PRODID:-//Sabre//Sabre VObject 4.5.8//EN
CALSCALE:GREGORIAN
LAST-MODIFIED:20240509T061210Z
BEGIN:VTIMEZONE
TZID:America/New_York
X-MICROSOFT-CDO-TZID:10
BEGIN:STANDARD
DTSTART:20231105T060000
TZOFFSETFROM:-0400
TZOFFSETTO:-0500
TZNAME:EST
END:STANDARD
BEGIN:STANDARD
DTSTART:20241103T060000
TZOFFSETFROM:-0400
TZOFFSETTO:-0500
TZNAME:EST
END:STANDARD
BEGIN:DAYLIGHT
DTSTART:20240310T070000
TZOFFSETFROM:-0500
TZOFFSETTO:-0400
TZNAME:EDT
END:DAYLIGHT
END:VTIMEZONE
BEGIN:VEVENT
UID:0d074559-1457-4540-857b-24b1be7a8d7f
DTSTAMP:20240509T061210Z
SUMMARY:VCWG Meeting
DTSTART;TZID=America/New_York:20240508T110000
DTEND;TZID=America/New_York:20240508T120000
DESCRIPTION:https://www.w3.org/events/meetings/0d074559-1457-4540-857b-24b1
 be7a8d7f/20240508T110000/\n\nThe regular meeting for the Verifiable Creden
 tials Working Group.\n\nAgenda\n\n### Date and Time:\nWednesday 08 May 202
 4\nTime: 3:00 PM Boston (60min)\nLocal date/time link: https://www.timeand
 date.com/worldclock/fixedtime.html?msg=VCWG+Meeting&iso=20240508T15&p1=43&
 ah=1\n\n### SPECIAL NOTE\, if any:\n\n\n### Scribe list: \nManuS\, WesleyS
 \, PaulD\, GabeC\, MikeJones\, BenY\, GregB\, DavidC\, JAndrieu\, DmitriZ\
 , Mahmoud\, DavidL\, JennieM\, AnilJ\, PhilL\, DaveL\n\n### Meeting Chair:
 \nBrent Zundel\n\n### Topics (time)\n1-Agenda Review\, Introductions  (5 m
 in)\n3-Work Item Status Updates/PRs [1] (15 min)\n4-VCDM Issue Processing 
 [2] (25 min)\n2-Controller Document FPWD [3] (10 min)\n\n#### Links\n[1] h
 ttps://github.com/w3c/vc-data-model/pulls\n[2] https://github.com/w3c/vc-d
 ata-model/issues?q=is%3Aissue+is%3Aopen+-label%3Afuture+sort%3Aupdated-asc
 \n[3] https://w3c.github.io/vc-controller-document/FPWD/2024-FPWD/\n\n### 
 Issues marked pending close:\nAs of the time this email was sent\, the fol
 lowing issues and PRs were marked 'pending close':\n\nThere are no pending
  close issues\n\nFor an up to date list of the current set of 'pending clo
 se' issues\, please see: \nhttps://github.com/w3c/vc-data-model/issues?q=i
 s%3Aissue+is%3Aopen+sort%3Aupdated-asc+label%3A%22pending+close%22
STATUS:CONFIRMED
CREATED:20240507T152053Z
LAST-MODIFIED:20240509T061210Z
SEQUENCE:5
ORGANIZER;CN=W3C Calendar;PARTSTAT=ACCEPTED;ROLE=NON-PARTICIPANT:mailto:nor
 eply@w3.org
ATTENDEE;CUTYPE=GROUP;ROLE=OPT-PARTICIPANT;RSVP=FALSE;CN=Verifiable Credent
 ials Working Group:mailto:public-vc-wg@w3.org
RECURRENCE-ID;TZID=America/New_York:20240508T110000
END:VEVENT
END:VCALENDAR
