BEGIN:VCALENDAR
VERSION:2.0
PRODID:-//Sabre//Sabre VObject 4.5.8//EN
CALSCALE:GREGORIAN
LAST-MODIFIED:20240313T161642Z
BEGIN:VTIMEZONE
TZID:America/New_York
X-MICROSOFT-CDO-TZID:10
BEGIN:STANDARD
DTSTART:20231105T060000
TZOFFSETFROM:-0400
TZOFFSETTO:-0500
TZNAME:EST
END:STANDARD
BEGIN:STANDARD
DTSTART:20241103T060000
TZOFFSETFROM:-0400
TZOFFSETTO:-0500
TZNAME:EST
END:STANDARD
BEGIN:DAYLIGHT
DTSTART:20240310T070000
TZOFFSETFROM:-0500
TZOFFSETTO:-0400
TZNAME:EDT
END:DAYLIGHT
END:VTIMEZONE
BEGIN:VEVENT
UID:0d074559-1457-4540-857b-24b1be7a8d7f
DTSTAMP:20240313T161642Z
SUMMARY:VCWG Meeting
DTSTART;TZID=America/New_York:20240313T110000
DTEND;TZID=America/New_York:20240313T120000
DESCRIPTION:https://www.w3.org/events/meetings/0d074559-1457-4540-857b-24b1
 be7a8d7f/20240313T110000/\n\nThe regular meeting for the Verifiable Creden
 tials Working Group.\n\nAgenda\n\n### Date and Time:\nWednesday 13 Mar 202
 4\nTime: 3:00 PM Boston (60min)\nLocal date/time link: https://www.timeand
 date.com/worldclock/fixedtime.html?msg=VCWG+Meeting&iso=20240313T15&p1=43&
 ah=1\n\n### SPECIAL NOTE\, if any:\nThe US has shifted to daylight savings
  time\, other places have not yet.\nThe time and date link in the agenda s
 hould give you the meeting time in your local timezone\, but please be awa
 re it may not be what is typical.\n\n### Scribe list: \nPhilL\, DmitriZ\, 
 ChrisA\, Sebastian\, JAndrieu\, GregB\, DavidC\, Andres\, ManuS\, WesleyS\
 , PaulD\, GabeC\, WillA\, MikeJones\, DaveL\, BenY\n\n### Meeting Chair:\n
 Brent Zundel\n\n### Topics (time)\n1-Agenda Review\, Introductions  (5 min
 )\n2-BBS Data Integrity CR proposal [1] (10 min)\n3-Bitstring Status List 
 PING issues [2] (15 min)\n4-Work Item Status Updates/PRs [3] (5 min)\n5-VC
 DM Issue Processing [4] (20 min)\n\n#### Links\n[1] https://w3c.github.io/
 vc-di-bbs/CR/2024-03-28/\n[2] https://github.com/w3c/vc-bitstring-status-l
 ist/issues?q=is%3Aissue+is%3Aopen+label%3Aprivacy-needs-resolution\n[3] ht
 tps://github.com/w3c/vc-data-model/pulls\n[4] https://github.com/w3c/vc-da
 ta-model/issues?q=is%3Aissue+is%3Aopen+-label%3Afuture+sort%3Aupdated-asc\
 n\n### Issues marked pending close:\nAs of the time this email was sent\, 
 the following issues and PRs were marked 'pending close':\n\nThere are no 
 pending close issues\n\nFor an up to date list of the current set of 'pend
 ing close' issues\, please see: \nhttps://github.com/w3c/vc-data-model/iss
 ues?q=is%3Aissue+is%3Aopen+sort%3Aupdated-asc+label%3A%22pending+close%22
STATUS:CONFIRMED
CREATED:20240311T172539Z
LAST-MODIFIED:20240313T161642Z
SEQUENCE:3
ORGANIZER;CN=W3C Calendar;PARTSTAT=ACCEPTED;ROLE=NON-PARTICIPANT:mailto:nor
 eply@w3.org
ATTENDEE;CUTYPE=GROUP;ROLE=OPT-PARTICIPANT;RSVP=FALSE;CN=Verifiable Credent
 ials Working Group:mailto:public-vc-wg@w3.org
RECURRENCE-ID;TZID=America/New_York:20240313T110000
END:VEVENT
END:VCALENDAR
