BEGIN:VCALENDAR
VERSION:2.0
PRODID:-//Sabre//Sabre VObject 4.5.8//EN
CALSCALE:GREGORIAN
LAST-MODIFIED:20240228T170740Z
BEGIN:VTIMEZONE
TZID:America/New_York
X-MICROSOFT-CDO-TZID:10
BEGIN:DAYLIGHT
DTSTART:20230312T070000
TZOFFSETFROM:-0500
TZOFFSETTO:-0400
TZNAME:EDT
END:DAYLIGHT
BEGIN:DAYLIGHT
DTSTART:20240310T070000
TZOFFSETFROM:-0500
TZOFFSETTO:-0400
TZNAME:EDT
END:DAYLIGHT
BEGIN:STANDARD
DTSTART:20231105T060000
TZOFFSETFROM:-0400
TZOFFSETTO:-0500
TZNAME:EST
END:STANDARD
END:VTIMEZONE
BEGIN:VEVENT
UID:0d074559-1457-4540-857b-24b1be7a8d7f
DTSTAMP:20240228T170740Z
SUMMARY:VCWG Meeting
DTSTART;TZID=America/New_York:20240228T110000
DTEND;TZID=America/New_York:20240228T120000
DESCRIPTION:https://www.w3.org/events/meetings/0d074559-1457-4540-857b-24b1
 be7a8d7f/20240228T110000/\n\nThe regular meeting for the Verifiable Creden
 tials Working Group.\n\nAgenda\n\n### Date and Time:\nWednesday 28 Feb 202
 4\nTime: 3:00 PM Boston (60min)\nLocal date/time link: https://www.timeand
 date.com/worldclock/fixedtime.html?msg=VCWG+Meeting&iso=20240228T15&p1=43&
 ah=1\n\n### SPECIAL NOTE\, if any:\n\n\n### Scribe list: \nPhilL\, BenY\, 
 DmitriZ\, ChrisA\, Sebastian\, JAndrieu\, GregB\, DavidC\, Andres\, ManuS\
 , DaveL\, WesleyS\, PaulD\, GabeC\, WillA\, MikeJones\n\n### Meeting Chair
 :\nBrent Zundel\n\n### Topics (time)\n1-Agenda Review\, Introductions  (5 
 min)\n2-Work Item Status Updates/PRs [1] (15 min)\n3-VCDM Issue Processing
  [2] (35 min)\n\n#### Links\n[1] https://github.com/w3c/vc-data-model/pull
 s\n[2] https://github.com/w3c/vc-data-model/issues?q=is%3Aissue+is%3Aopen+
 -label%3Afuture+sort%3Aupdated-asc\n\n### Issues marked pending close:\nAs
  of the time this email was sent\, the following issues and PRs were marke
 d 'pending close':\n\nIssue 995: https://github.com/w3c/vc-data-model/issu
 es/995\n\nFor an up to date list of the current set of 'pending close' iss
 ues\, please see: \nhttps://github.com/w3c/vc-data-model/issues?q=is%3Aiss
 ue+is%3Aopen+sort%3Aupdated-asc+label%3A%22pending+close%22
STATUS:CONFIRMED
CREATED:20240226T193057Z
LAST-MODIFIED:20240228T170740Z
SEQUENCE:3
ORGANIZER;CN=W3C Calendar;PARTSTAT=ACCEPTED;ROLE=NON-PARTICIPANT:mailto:nor
 eply@w3.org
ATTENDEE;CUTYPE=GROUP;ROLE=OPT-PARTICIPANT;RSVP=FALSE;CN=Verifiable Credent
 ials Working Group:mailto:public-vc-wg@w3.org
RECURRENCE-ID;TZID=America/New_York:20240228T110000
END:VEVENT
END:VCALENDAR
