BEGIN:VCALENDAR
VERSION:2.0
PRODID:-//Sabre//Sabre VObject 4.5.8//EN
CALSCALE:GREGORIAN
LAST-MODIFIED:20250610T094835Z
BEGIN:VTIMEZONE
TZID:America/New_York
X-MICROSOFT-CDO-TZID:10
BEGIN:STANDARD
DTSTART:20241103T060000
TZOFFSETFROM:-0400
TZOFFSETTO:-0500
TZNAME:EST
END:STANDARD
BEGIN:STANDARD
DTSTART:20251102T060000
TZOFFSETFROM:-0400
TZOFFSETTO:-0500
TZNAME:EST
END:STANDARD
BEGIN:DAYLIGHT
DTSTART:20250309T070000
TZOFFSETFROM:-0500
TZOFFSETTO:-0400
TZNAME:EDT
END:DAYLIGHT
END:VTIMEZONE
BEGIN:VEVENT
UID:0c401183-82b5-4fed-b7c6-3a9c8e7517c3
DTSTAMP:20250610T094835Z
SUMMARY:APA Weekly Teleconference
DTSTART;TZID=America/New_York:20250611T100000
DTEND;TZID=America/New_York:20250611T105500
DESCRIPTION:https://www.w3.org/events/meetings/0c401183-82b5-4fed-b7c6-3a9c
 8e7517c3/20250611T100000/\n\n**Please check the "Agenda" section (after fo
 llowing the "APA Weekly Teleconference" link to get to this call's event d
 etails page) for links to read the specs\, comment threads\, and actions w
 e'll be reviewing in the next meeting.**\n\n## Resources and Minutes\n\n* 
 APA WG: https://www.w3.org/WAI/APA/minutes\n* Adapt TF: https://www.w3.org
 /WAI/APA/task-forces/adapt/minutes\n* COGA TF: https://www.w3.org/WAI/GL/t
 ask-forces/coga/minutes\n* Pronunciation TF: https://www.w3.org/WAI/APA/ta
 sk-forces/pronunciation/minutes\n* Maturity Model TF: https://www.w3.org/W
 AI/APA/task-forces/maturity-model/minutes\n* Research Questions TF: https:
 //www.w3.org/WAI/APA/task-forces/research-questions/minutes\n\nAdditional 
 resources for APA at: https://www.w3.org/WAI/APA/wiki/Key_Resources_and_Li
 nks\n\nAgenda\n\n1. Agenda Review & Announcements\n2. TPAC 2025\n2. Update
  on horizontal review process improvements\n3. New on TR\n4. [Spec review 
 requests](https://github.com/w3c/a11y-request/issues)\n   * 2025-05-25: [H
 orizontal Review Request for DID v1.1](https://github.com/w3c/a11y-request
 /issues/112)\n   * 2025-06-20: [Web Neural Network API](https://github.com
 /w3c/a11y-request/issues/105) - [Internal APA reviewers' thread](https://g
 ithub.com/w3c/apa/issues/350)\n5. [Comment review requests](https://w3c.gi
 thub.io/horizontal-issue-tracker/?repo=w3c/a11y-review)\n   * [Connect HTM
 L spec up to new CSS `interactivity` property](https://github.com/w3c/a11y
 -review/issues/231)\n   * [[css-anchor-position-1] Improve accessibility g
 uidance](https://github.com/w3c/a11y-review/issues/230)\n6. [CSS Update (P
 aul)](https://github.com/w3c/css-a11y/issues)\n7. Actions check-in\n8. Oth
 er business\n9. Be done
STATUS:CONFIRMED
CREATED:20250610T094814Z
LAST-MODIFIED:20250610T094835Z
SEQUENCE:1
ORGANIZER;CN=W3C Calendar;PARTSTAT=ACCEPTED;ROLE=NON-PARTICIPANT:mailto:nor
 eply@w3.org
ATTENDEE;CUTYPE=GROUP;ROLE=OPT-PARTICIPANT;RSVP=FALSE;CN=Accessible Platfor
 m Architectures Working Group:mailto:public-apa@w3.org
RECURRENCE-ID;TZID=America/New_York:20250611T100000
END:VEVENT
END:VCALENDAR
