BEGIN:VCALENDAR
VERSION:2.0
PRODID:-//Sabre//Sabre VObject 4.5.8//EN
CALSCALE:GREGORIAN
LAST-MODIFIED:20240605T161648Z
BEGIN:VTIMEZONE
TZID:America/New_York
X-MICROSOFT-CDO-TZID:10
BEGIN:STANDARD
DTSTART:20231105T060000
TZOFFSETFROM:-0400
TZOFFSETTO:-0500
TZNAME:EST
END:STANDARD
BEGIN:STANDARD
DTSTART:20241103T060000
TZOFFSETFROM:-0400
TZOFFSETTO:-0500
TZNAME:EST
END:STANDARD
BEGIN:DAYLIGHT
DTSTART:20240310T070000
TZOFFSETFROM:-0500
TZOFFSETTO:-0400
TZNAME:EDT
END:DAYLIGHT
END:VTIMEZONE
BEGIN:VEVENT
UID:0c00c874-8356-4700-b8c6-5d7f9eab1792
DTSTAMP:20240605T161648Z
SUMMARY:VCWG Meeting
DTSTART;TZID=America/New_York:20240605T110000
DTEND;TZID=America/New_York:20240605T120000
DESCRIPTION:https://www.w3.org/events/meetings/0c00c874-8356-4700-b8c6-5d7f
 9eab1792/20240605T110000/\n\nRegular weekly VCWG teleconference\n\nAgenda\
 n\n### Date and Time:\nWednesday 05 Jun 2024\nTime: 3:00 PM Boston (60min)
 \nLocal date/time link: https://www.timeanddate.com/worldclock/fixedtime.h
 tml?msg=VCWG+Meeting&iso=20240605T15&p1=43&ah=1\n\n### SPECIAL NOTE\, if a
 ny:\n\n\n### Scribe list: \nWesleyS\, PaulD\, GabeC\, GregB\, DavidC\, JAn
 drieu\, DmitriZ\, Mahmoud\, DavidL\, JennieM\, AnilJ\, PhilL\, DaveL\, Man
 uS\, MikeJones\, BenY\n\n### Meeting Chair:\nBrent Zundel\n\n### Topics (t
 ime)\n1-Agenda Review\, Introductions  (5 min)\n2-test suite readout  (10 
 min)\n3-Timing for each of the specs  (5 min)\n4-Work Item Status Updates/
 PRs [1] (10 min)\n5-VCDM Issue Processing [2] (25 min)\n\n#### Links\n[1] 
 https://github.com/w3c/vc-data-model/pulls\n[2] https://github.com/w3c/vc-
 data-model/issues?q=is%3Aissue+is%3Aopen+-label%3Afuture+sort%3Aupdated-as
 c\n\n### Issues marked pending close:\nAs of the time this email was sent\
 , the following issues and PRs were marked 'pending close':\n\nThere are n
 o pending close issues\n\nFor an up to date list of the current set of 'pe
 nding close' issues\, please see: \nhttps://github.com/w3c/vc-data-model/i
 ssues?q=is%3Aissue+is%3Aopen+sort%3Aupdated-asc+label%3A%22pending+close%2
 2
STATUS:CONFIRMED
CREATED:20240603T142228Z
LAST-MODIFIED:20240605T161648Z
SEQUENCE:4
ORGANIZER;CN=W3C Calendar;PARTSTAT=ACCEPTED;ROLE=NON-PARTICIPANT:mailto:nor
 eply@w3.org
ATTENDEE;CUTYPE=GROUP;ROLE=OPT-PARTICIPANT;RSVP=FALSE;CN=Verifiable Credent
 ials Working Group:mailto:public-vc-wg@w3.org
RECURRENCE-ID;TZID=America/New_York:20240605T110000
END:VEVENT
END:VCALENDAR
