BEGIN:VCALENDAR
VERSION:2.0
PRODID:-//Sabre//Sabre VObject 4.5.8//EN
CALSCALE:GREGORIAN
LAST-MODIFIED:20251110T004346Z
BEGIN:VTIMEZONE
TZID:Asia/Tokyo
X-MICROSOFT-CDO-TZID:20
BEGIN:STANDARD
DTSTART:20241115T063000
TZOFFSETFROM:+0900
TZOFFSETTO:+0900
TZNAME:JST
END:STANDARD
END:VTIMEZONE
BEGIN:VEVENT
UID:0bf6ca9c-9bd3-4043-854c-5dd1280fafee
DTSTAMP:20251110T004346Z
SUMMARY:Audio Description Community Group
DTSTART;TZID=Asia/Tokyo:20251110T153000
DTEND;TZID=Asia/Tokyo:20251110T164500
DESCRIPTION:https://www.w3.org/events/meetings/0bf6ca9c-9bd3-4043-854c-5dd1
 280fafee/\n\nReview of current status of DAPT and its implementations.\n\n
 Agenda\n\n* Review of DAPT specification\n* Implementations and status
STATUS:CONFIRMED
CREATED:20250716T142554Z
LAST-MODIFIED:20251110T004346Z
SEQUENCE:9
ORGANIZER;CN=W3C Calendar;PARTSTAT=ACCEPTED;ROLE=NON-PARTICIPANT:mailto:nor
 eply@w3.org
ATTENDEE;CUTYPE=GROUP;ROLE=OPT-PARTICIPANT;RSVP=FALSE;CN=Audio Description 
 Community Group:mailto:public-audio-description@w3.org
LOCATION:Floor 4 - 404
CATEGORIES:TPAC 2025,Group Meetings
END:VEVENT
END:VCALENDAR
