BEGIN:VCALENDAR
VERSION:2.0
PRODID:-//Sabre//Sabre VObject 4.5.8//EN
CALSCALE:GREGORIAN
LAST-MODIFIED:20240522T091406Z
BEGIN:VTIMEZONE
TZID:Etc/UTC
BEGIN:STANDARD
DTSTART:20230527T150000
TZOFFSETFROM:+0000
TZOFFSETTO:+0000
TZNAME:UTC
END:STANDARD
END:VTIMEZONE
BEGIN:VEVENT
UID:0bd4efb0-d447-437e-9c85-9a45eb0459cb
DTSTAMP:20240522T091406Z
SUMMARY:WebRTC WG May 2024 call
DTSTART;TZID=Etc/UTC:20240521T150000
DTEND;TZID=Etc/UTC:20240521T170000
DESCRIPTION:https://www.w3.org/events/meetings/0bd4efb0-d447-437e-9c85-9a45
 eb0459cb/\n\n\n\nAgenda: https://www.w3.org/2011/04/webrtc/wiki/May_21_202
 4
STATUS:TENTATIVE
CREATED:20240221T072511Z
LAST-MODIFIED:20240522T091406Z
SEQUENCE:0
ORGANIZER;CN=W3C Calendar;PARTSTAT=ACCEPTED;ROLE=NON-PARTICIPANT:mailto:nor
 eply@w3.org
ATTENDEE;CUTYPE=GROUP;ROLE=OPT-PARTICIPANT;RSVP=FALSE;CN=Web Real-Time Comm
 unications Working Group:mailto:public-webrtc@w3.org
END:VEVENT
END:VCALENDAR
