BEGIN:VCALENDAR
VERSION:2.0
PRODID:-//Sabre//Sabre VObject 4.5.8//EN
CALSCALE:GREGORIAN
LAST-MODIFIED:20240626T141345Z
BEGIN:VTIMEZONE
TZID:America/Los_Angeles
X-MICROSOFT-CDO-TZID:13
BEGIN:STANDARD
DTSTART:20231105T090000
TZOFFSETFROM:-0700
TZOFFSETTO:-0800
TZNAME:PST
END:STANDARD
BEGIN:STANDARD
DTSTART:20241103T090000
TZOFFSETFROM:-0700
TZOFFSETTO:-0800
TZNAME:PST
END:STANDARD
BEGIN:DAYLIGHT
DTSTART:20240310T100000
TZOFFSETFROM:-0800
TZOFFSETTO:-0700
TZNAME:PDT
END:DAYLIGHT
END:VTIMEZONE
BEGIN:VEVENT
UID:0b2d7f64-d334-4089-b49f-e63cedc81ccc
DTSTAMP:20240626T141345Z
SUMMARY:W3C Process CG Call
DTSTART;TZID=America/Los_Angeles:20240626T070000
DTEND;TZID=America/Los_Angeles:20240626T080000
DESCRIPTION:https://www.w3.org/events/meetings/0b2d7f64-d334-4089-b49f-e63c
 edc81ccc/20240626T070000/\n\nPropose improvements to the formal processes.
 \n\nAgenda: https://lists.w3.org/Archives/Public/public-w3process/2024Jun/
 0002.html
STATUS:CANCELLED
CREATED:20240625T200815Z
LAST-MODIFIED:20240626T141345Z
SEQUENCE:4
ORGANIZER;CN=W3C Calendar;PARTSTAT=ACCEPTED;ROLE=NON-PARTICIPANT:mailto:nor
 eply@w3.org
ATTENDEE;CUTYPE=GROUP;ROLE=OPT-PARTICIPANT;RSVP=FALSE;CN=W3C Process Commun
 ity Group:mailto:public-w3process@w3.org
RECURRENCE-ID;TZID=America/Los_Angeles:20240626T070000
END:VEVENT
END:VCALENDAR
