BEGIN:VCALENDAR
VERSION:2.0
PRODID:-//Sabre//Sabre VObject 4.5.8//EN
CALSCALE:GREGORIAN
LAST-MODIFIED:20240522T121603Z
BEGIN:VTIMEZONE
TZID:America/Los_Angeles
X-MICROSOFT-CDO-TZID:13
BEGIN:STANDARD
DTSTART:20231105T090000
TZOFFSETFROM:-0700
TZOFFSETTO:-0800
TZNAME:PST
END:STANDARD
BEGIN:STANDARD
DTSTART:20241103T090000
TZOFFSETFROM:-0700
TZOFFSETTO:-0800
TZNAME:PST
END:STANDARD
BEGIN:DAYLIGHT
DTSTART:20240310T100000
TZOFFSETFROM:-0800
TZOFFSETTO:-0700
TZNAME:PDT
END:DAYLIGHT
END:VTIMEZONE
BEGIN:VEVENT
UID:0b2d7f64-d334-4089-b49f-e63cedc81ccc
DTSTAMP:20240522T121603Z
SUMMARY:W3C Process CG Call
DTSTART;TZID=America/Los_Angeles:20240522T070000
DTEND;TZID=America/Los_Angeles:20240522T080000
DESCRIPTION:https://www.w3.org/events/meetings/0b2d7f64-d334-4089-b49f-e63c
 edc81ccc/20240522T070000/\n\nSee [latest Agenda post](https://www.w3.org/S
 earch/Mail/Public/search?keywords=&hdr-1-name=subject&hdr-1-query=Agenda&i
 ndex-grp=Public_FULL&index-type=t&type-index=public-w3process)\n\n[Revisin
 g W3C Process](https://www.w3.org/community/w3process/): Examine the way W
 3C works. Propose improvements to the formal processes.\n\n* [Github w3c/w
 3process](https://github.com/w3c/w3process/blob/main/README.md): [issues](
 https://github.com/w3c/w3process/issues)\, [pull requests](https://github.
 com/w3c/w3process/pulls)\, [monthly pulse](https://github.com/w3c/w3proces
 s/pulse/monthly)\n* [W3C Process Draft](https://www.w3.org/Consortium/Proc
 ess/Drafts/)\n* [Mailing list](https://lists.w3.org/Archives/Public/public
 -w3process/)\n\nUsual meeting time: SECOND and FOURTH WEDNESDAY OF THE MON
 TH AT 7AM PACIFIC.\n\nAgenda: https://lists.w3.org/Archives/Public/public-
 w3process/2024May/0003.html\n\nAgenda\n\nRequire listing chair(s) in chart
 ers\n Issue: [#823](https://github.com/w3c/w3process/issues/823)\n PR: [#8
 74](https://github.com/w3c/w3process/pull/874/files)\n\nRemove poorly phra
 sed note about AC consensus assessment:\n Issue: [#615](https://github.com
 /w3c/w3process/pull/615)\n PR: [#875](https://github.com/w3c/w3process/pul
 l/875/files)\n\nReminder that the first stage of REC track is WD\n Issue: 
 [#864](https://github.com/w3c/w3process/issues/864)\n PR: [#877](https://g
 ithub.com/w3c/w3process/pull/877/files)\n\nPurpose of CRD and next steps\n
  Issue: [#450](https://github.com/w3c/w3process/issues/450)\n PR: [#873](h
 ttps://github.com/w3c/w3process/pull/873/files)\n\nConsolidate similar par
 ts of REC revision:\n PR: [#865](https://github.com/w3c/w3process/pull/865
 )\n Alternative PR: [#878](https://github.com/w3c/w3process/pull/878)\n\nS
 hift most discussion of Workshops to /Guide:\n Issue: [#419](https://githu
 b.com/w3c/w3process/pull/419)\n PR: [#876](https://github.com/w3c/w3proces
 s/pull/876)\n\n=== Issues to Discuss ===\n\nDocumenting standard decision 
 policies for charters\n [#425](https://github.com/w3c/w3process/issues/425
 )\n\nRenaming the repo to /process\n [#871](https://github.com/w3c/w3proce
 ss/issues/871)\n\nShould member submissions be removed from the Process?\n
  [#648](https://github.com/w3c/w3process/issues/648)
STATUS:TENTATIVE
CREATED:20240522T121440Z
LAST-MODIFIED:20240522T121603Z
SEQUENCE:2
ORGANIZER;CN=W3C Calendar;PARTSTAT=ACCEPTED;ROLE=NON-PARTICIPANT:mailto:nor
 eply@w3.org
ATTENDEE;CUTYPE=GROUP;ROLE=OPT-PARTICIPANT;RSVP=FALSE;CN=W3C Process Commun
 ity Group:mailto:public-w3process@w3.org
RECURRENCE-ID;TZID=America/Los_Angeles:20240522T070000
END:VEVENT
END:VCALENDAR
