BEGIN:VCALENDAR
VERSION:2.0
PRODID:-//Sabre//Sabre VObject 4.5.8//EN
CALSCALE:GREGORIAN
LAST-MODIFIED:20210706T084553Z
BEGIN:VTIMEZONE
TZID:Europe/Paris
X-MICROSOFT-CDO-TZID:3
BEGIN:STANDARD
DTSTART:20201025T010000
TZOFFSETFROM:+0200
TZOFFSETTO:+0100
TZNAME:CET
END:STANDARD
BEGIN:STANDARD
DTSTART:20211031T010000
TZOFFSETFROM:+0200
TZOFFSETTO:+0100
TZNAME:CET
END:STANDARD
BEGIN:DAYLIGHT
DTSTART:20210328T010000
TZOFFSETFROM:+0100
TZOFFSETTO:+0200
TZNAME:CEST
END:DAYLIGHT
END:VTIMEZONE
BEGIN:VEVENT
UID:0b2a5dc2-fdd2-4f03-a0ad-3a330d2fb82b
DTSTAMP:20210706T084553Z
SUMMARY:Games Community Group - July 2021 - Workshop #2 "Virality"
DTSTART;TZID=Europe/Paris:20210727T100000
DTEND;TZID=Europe/Paris:20210727T110000
DESCRIPTION:https://www.w3.org/events/meetings/0b2a5dc2-fdd2-4f03-a0ad-3a33
 0d2fb82b/\n\nOur new bi-monthly workshop calls. The focus of this workshop
  will be virality...\n\n“The beauty of the web is the power of the URL a
 nd its inherent shareability and virality. Do games leverage this strength
  enough? How could the web platform enable web games to be more viral?”\
 n\nThis workshop will be at an EMEA / Asia-Pacific friendly time.\n\nForma
 t:\n* 5mn - Introduction\n* 25mn - Split into groups of ~5 people for brai
 nstorming\, adding to a big group google slide deck\n* 5-10mn - Return as 
 a whole group. A person from each group presents as we walk through the gr
 oup deck.\n* 15mn - Discuss as one large group\n* 5-10mn - Try to identify
  “actionable items”\n\nAgenda\n\nFormat:\n* 5mn - Introduction\n* 25mn
  - Split into groups of ~5 people for brainstorming\, adding to a big grou
 p google slide deck\n* 5-10mn - Return as a whole group. A person from eac
 h group presents as we walk through the group deck.\n* 15mn - Discuss as o
 ne large group\n* 5-10mn - Try to identify “actionable items”
STATUS:CONFIRMED
CREATED:20210706T083921Z
LAST-MODIFIED:20210706T084553Z
SEQUENCE:4
ORGANIZER;CN=W3C Calendar;PARTSTAT=ACCEPTED;ROLE=NON-PARTICIPANT:mailto:nor
 eply@w3.org
ATTENDEE;CUTYPE=GROUP;ROLE=OPT-PARTICIPANT;RSVP=FALSE;CN=Games Community Gr
 oup:mailto:public-games@w3.org
END:VEVENT
END:VCALENDAR
