BEGIN:VCALENDAR
VERSION:2.0
PRODID:-//Sabre//Sabre VObject 4.5.8//EN
CALSCALE:GREGORIAN
LAST-MODIFIED:20240923T180151Z
BEGIN:VTIMEZONE
TZID:America/Los_Angeles
X-MICROSOFT-CDO-TZID:13
BEGIN:STANDARD
DTSTART:20231105T090000
TZOFFSETFROM:-0700
TZOFFSETTO:-0800
TZNAME:PST
END:STANDARD
BEGIN:STANDARD
DTSTART:20241103T090000
TZOFFSETFROM:-0700
TZOFFSETTO:-0800
TZNAME:PST
END:STANDARD
BEGIN:DAYLIGHT
DTSTART:20240310T100000
TZOFFSETFROM:-0800
TZOFFSETTO:-0700
TZNAME:PDT
END:DAYLIGHT
END:VTIMEZONE
BEGIN:VEVENT
UID:0adef6b7-aa86-4dfe-9541-caa5b0b8839a
DTSTAMP:20240923T180151Z
SUMMARY:Spatial Data on the Web Working Group\, Dataset Exchange Working Gr
 oup Joint Meeting
DTSTART;TZID=America/Los_Angeles:20240923T110000
DTEND;TZID=America/Los_Angeles:20240923T123000
DESCRIPTION:https://www.w3.org/events/meetings/0adef6b7-aa86-4dfe-9541-caa5
 b0b8839a/\n\n\n\nAgenda: https://lists.w3.org/Archives/Public/public-sdw-w
 g/2024Sep/0008.html
STATUS:CONFIRMED
CREATED:20240614T163434Z
LAST-MODIFIED:20240923T180151Z
SEQUENCE:5
ORGANIZER;CN=W3C Calendar;PARTSTAT=ACCEPTED;ROLE=NON-PARTICIPANT:mailto:nor
 eply@w3.org
ATTENDEE;CUTYPE=GROUP;ROLE=OPT-PARTICIPANT;RSVP=FALSE;CN=Dataset Exchange W
 orking Group:mailto:public-dxwg-wg@w3.org
ATTENDEE;CUTYPE=GROUP;ROLE=OPT-PARTICIPANT;RSVP=FALSE;CN=Spatio-temporal Da
 ta on the Web Working Group:mailto:public-sdw-wg@w3.org
LOCATION:-1 Lower Level - Catalina 2
CATEGORIES:TPAC 2024,Group Meetings
END:VEVENT
END:VCALENDAR
