BEGIN:VCALENDAR
VERSION:2.0
PRODID:-//Sabre//Sabre VObject 4.5.8//EN
CALSCALE:GREGORIAN
LAST-MODIFIED:20251103T174754Z
BEGIN:VTIMEZONE
TZID:Asia/Tokyo
X-MICROSOFT-CDO-TZID:20
BEGIN:STANDARD
DTSTART:20241116T073000
TZOFFSETFROM:+0900
TZOFFSETTO:+0900
TZNAME:JST
END:STANDARD
END:VTIMEZONE
BEGIN:VEVENT
UID:0a775c6d-67c0-4680-9925-0a5d50513187
DTSTAMP:20251103T174754Z
SUMMARY:Documentation CG
DTSTART;TZID=Asia/Tokyo:20251111T163000
DTEND;TZID=Asia/Tokyo:20251111T180000
DESCRIPTION:https://www.w3.org/events/meetings/0a775c6d-67c0-4680-9925-0a5d
 50513187/\n\nGeneral Documentation CG session to talk about our charter\, 
 reviewing 2025 work\, and planning 2026.\n\nAgenda: https://github.com/w3c
 -cg/webdocs/issues/25
STATUS:CONFIRMED
CREATED:20250716T142638Z
LAST-MODIFIED:20251103T174754Z
SEQUENCE:8
ORGANIZER;CN=W3C Calendar;PARTSTAT=ACCEPTED;ROLE=NON-PARTICIPANT:mailto:nor
 eply@w3.org
ATTENDEE;CUTYPE=GROUP;ROLE=OPT-PARTICIPANT;RSVP=FALSE;CN=Documentation Comm
 unity Group:mailto:public-docs-cg@w3.org
LOCATION:Floor 4 - 403
CATEGORIES:TPAC 2025,Group Meetings
END:VEVENT
END:VCALENDAR
