BEGIN:VCALENDAR
VERSION:2.0
PRODID:-//Sabre//Sabre VObject 4.5.8//EN
CALSCALE:GREGORIAN
LAST-MODIFIED:20260420T182715Z
BEGIN:VTIMEZONE
TZID:America/Los_Angeles
X-MICROSOFT-CDO-TZID:13
BEGIN:STANDARD
DTSTART:20251102T090000
TZOFFSETFROM:-0700
TZOFFSETTO:-0800
TZNAME:PST
END:STANDARD
BEGIN:STANDARD
DTSTART:20261101T090000
TZOFFSETFROM:-0700
TZOFFSETTO:-0800
TZNAME:PST
END:STANDARD
BEGIN:DAYLIGHT
DTSTART:20260308T100000
TZOFFSETFROM:-0800
TZOFFSETTO:-0700
TZNAME:PDT
END:DAYLIGHT
END:VTIMEZONE
BEGIN:VEVENT
UID:08e221c5-ecee-49cc-9e60-bce8dfa41248
DTSTAMP:20260420T182715Z
SUMMARY:Immersive Web Group Calls
DTSTART;TZID=America/Los_Angeles:20260421T110000
DTEND;TZID=America/Los_Angeles:20260421T120000
DESCRIPTION:https://www.w3.org/events/meetings/08e221c5-ecee-49cc-9e60-bce8
 dfa41248/\n\n\n\nAgenda: https://github.com/immersive-web/administrivia/bl
 ob/main/meetings/2026/
STATUS:CONFIRMED
CREATED:20260406T191230Z
LAST-MODIFIED:20260420T182715Z
SEQUENCE:1
ORGANIZER;CN=W3C Calendar;PARTSTAT=ACCEPTED;ROLE=NON-PARTICIPANT:mailto:nor
 eply@w3.org
ATTENDEE;CUTYPE=GROUP;ROLE=OPT-PARTICIPANT;RSVP=FALSE;CN=Immersive Web Comm
 unity Group:mailto:public-immersive-web@w3.org
ATTENDEE;CUTYPE=GROUP;ROLE=OPT-PARTICIPANT;RSVP=FALSE;CN=Immersive Web Work
 ing Group:mailto:public-immersive-web-wg@w3.org
RELATED-TO:4b5294b7-6afc-44e6-ab59-91aaeaebcad0
RRULE:FREQ=DAILY;UNTIL=20270323T180000Z;INTERVAL=14;WKST=MO
END:VEVENT
BEGIN:VEVENT
UID:08e221c5-ecee-49cc-9e60-bce8dfa41248
DTSTAMP:20260420T182712Z
SUMMARY:Immersive Web Group Calls
DTSTART;TZID=America/Los_Angeles:20260421T110000
DTEND;TZID=America/Los_Angeles:20260421T120000
DESCRIPTION:https://www.w3.org/events/meetings/08e221c5-ecee-49cc-9e60-bce8
 dfa41248/20260421T110000/\n\n### Call Agenda\n\nThis agenda can be viewed 
 and updated on [Github](https://github.com/immersive-web/administrivia/blo
 b/main/meetings/2026/2026-04-22-Immersive_Web_Community_Group_Teleconferen
 ce-agenda.md).\n\nIf you would like to add an item to the agenda or volunt
 eer to scribe please open a pull request against this agenda.\n\n* [propos
 als#91 Spatial CSS Interest](https://github.com/immersive-web/proposals/is
 sues/91) [requested by AdaRoseCannon](https://github.com/immersive-web/pro
 posals/issues/91#issuecomment-4179267559)\n> Hi\, we have published our pr
 oposal for Spatial CSS here:\n>\n>* Explainer: https://webkit.github.io/ex
 plainers/css-spatial/explainer.html. \n>* Spec: https://webkit.github.io/e
 xplainers/css-spatial/Overview.html\n>\n>The goal of this work is to let w
 eb authors build in-page spatial experiences using familiar CSS patterns.\
 n>\n>This introduces three-dimensional layout to CSS\, allowing elements t
 o be positioned toward and away from the user. This can create either simp
 le raised-off-the-page effects or a full portal into a 3D world that acts 
 as a window into an independent spatial coordinate system.\n>\n>Existing C
 SS positioning concepts such as relative and absolute positioning\, inset 
 properties\, anchor positioning\, and box alignment are extended to work a
 cross all three axes.\n>\n>There are controls that let UAs constrain how f
 ar content can protrude toward the user\, and capabilities for authors to 
 adapt layouts based on the available spatial depth.\n>\n> to go over this 
 proposal\n\n* [webxr#1396 Confusion around actual and internal visiblity](
 https://github.com/immersive-web/webxr/issues/1396) [requested by ibytergj
 ](https://github.com/immersive-web/webxr/issues/1396#issuecomment-40063792
 50)\n> So my use case right now is in VR when the user takes off their hea
 dset. I want to signal to the system that the avatar should go into an idl
 e pose so that the avatar is just not collapsing\, whichever way the hands
 et and controllers happen to be put down. If the headset supports the info
 rmation like the quest  3 does\, it would be very useful if this informati
 on was available to us to implement for a better user experience.\n\n### I
 mmersive Web Community Group Teleconference - 2026-04-21\n\n<table>\n<tr><
 td> San Francisco (U.S.A. - California) <td> Tuesday\, April 21 at 11:00 P
 M PDT\n<tr><td> Boston (U.S.A. - Massachusetts) <td> Wednesday\, April 22 
 at 2:00 AM EDT\n<tr><td> London (United Kingdom - England) <td> Wednesday\
 , April 22 at 7:00 AM GMT+1\n<tr><td> Paris (France) <td> Wednesday\, Apri
 l 22 at 8:00 AM GMT+2\n<tr><td> Tokyo (Japan) <td> Wednesday\, April 22 at
  3:00 PM GMT+9\n<tr><td> Corresponding UTC (GMT) <td> Wednesday\, April 22
  at 6:00 AM UTC\n</table>\n\n### Logistics\n\nChair: Ada Rose Cannon\n\nSc
 ribe:\n\nIRC: [irc.w3.org](https://irc.w3.org/):6667 #immersive-web [Instr
 uctions](https://github.com/immersive-web/administrivia/blob/main/IRC.md)\
 n\nCall Details can be found in the Immersive Web Event Calendars: [WG](ht
 tps://www.w3.org/groups/wg/immersive-web/calendar/)/[CG](https://www.w3.or
 g/groups/cg/immersive-web/calendar/)\n\nYou subscribe to these calendars w
 ith your calendar application of choice for more convenient access to the 
 call details. See details at Export options section in [WG](https://www.w3
 .org/groups/wg/immersive-web/calendar/#export)/[CG](https://www.w3.org/gro
 ups/cg/immersive-web/calendar/#export).\n\nIf you are unable to login to v
 iew the call details please ask on the IRC before the call.\n\n### Help Wa
 nted\n\nHere are some issues which are good issues to get involved in\, if
  you have taken responsibility for one leave a comment in the issue:\n\n- 
 [webvr-polyfill-dpdb#34 Create a helper script/web page for generating val
 ues for a new device](https://github.com/immersive-web/webvr-polyfill-dpdb
 /issues/34)\n- [webxr-input-profiles#69 Resizing the window changes the mo
 del viewer's aspect ratio](https://github.com/immersive-web/webxr-input-pr
 ofiles/issues/69) [<small>[Future]</small>](https://api.github.com/repos/i
 mmersive-web/webxr-input-profiles/milestones/4)\n- [webxr#953 Typescript d
 efinitions](https://github.com/immersive-web/webxr/issues/953) [<small>[Pr
 e-REC]</small>](https://api.github.com/repos/immersive-web/webxr/milestone
 s/16)\n- [webxr#1115 Explicitly spec when inline animation frame loops are
  suspended](https://github.com/immersive-web/webxr/issues/1115) [<small>[P
 re-REC]</small>](https://api.github.com/repos/immersive-web/webxr/mileston
 es/16)\n- [proposals#82 Some sort of local shared space](https://github.co
 m/immersive-web/proposals/issues/82)\n\nAgenda: https://github.com/immersi
 ve-web/administrivia/blob/main/meetings/2026/2026-04-22-Immersive_Web_Comm
 unity_Group_Teleconference-agenda.md
STATUS:CONFIRMED
CREATED:20260420T182708Z
LAST-MODIFIED:20260420T182712Z
SEQUENCE:1
ORGANIZER;CN=W3C Calendar;PARTSTAT=ACCEPTED;ROLE=NON-PARTICIPANT:mailto:nor
 eply@w3.org
ATTENDEE;CUTYPE=GROUP;ROLE=OPT-PARTICIPANT;RSVP=FALSE;CN=Immersive Web Comm
 unity Group:mailto:public-immersive-web@w3.org
ATTENDEE;CUTYPE=GROUP;ROLE=OPT-PARTICIPANT;RSVP=FALSE;CN=Immersive Web Work
 ing Group:mailto:public-immersive-web-wg@w3.org
RECURRENCE-ID;TZID=America/Los_Angeles:20260421T110000
END:VEVENT
BEGIN:VEVENT
UID:4b5294b7-6afc-44e6-ab59-91aaeaebcad0
DTSTAMP:20260406T194920Z
SUMMARY:Immersive Web Group Calls
DTSTART;TZID=America/Los_Angeles:20260324T110000
DTEND;TZID=America/Los_Angeles:20260324T120000
DESCRIPTION:https://www.w3.org/events/meetings/4b5294b7-6afc-44e6-ab59-91aa
 eaebcad0/\n\n\n\nAgenda: https://github.com/immersive-web/administrivia/bl
 ob/main/meetings/2026/2026-03-24-Immersive_Web_Community_Group_Teleconfere
 nce-agenda.md\n\nAgenda\n\n### Call Agenda\n\nThis agenda can be viewed an
 d updated on [Github](https://github.com/immersive-web/administrivia/blob/
 main/meetings/2026/2026-03-24-Immersive_Web_Community_Group_Teleconference
 -agenda.md).\n\nIf you would like to add an item to the agenda or voluntee
 r to scribe please open a pull request against this agenda.\n\n* [anchors#
 78 Proposal to allow management of persistent anchors](https://github.com/
 immersive-web/anchors/pull/78) [requested by alcooper91](https://github.co
 m/immersive-web/anchors/pull/78#issuecomment-4111548373)\n> Should this be
  addressed?\n\n* [anchors#87 Clarify RestorePersistentAnchors logic](https
 ://github.com/immersive-web/anchors/issues/87) - alcooper91\n> The algorit
 hm for [RestorePersistentAnchor](https://immersive-web.github.io/anchors/#
 ref-for-dom-xrsession-restorepersistentanchor)\, makes reference to throwi
 ng if the page does not have the UUID in it's list of persistent anchors. 
 However\, if I understand correctly the premise of the persistent anchor p
 ortion of the API is that it would allow sites to restore these anchors ac
 ross multiple sessions. Thus\, it seems highly plausible to me that a comm
 on use case would be the site *not* having this UUID in it's list of persi
 stent anchors and fetching the anchor from the device? Any reference to th
 e list of persistent anchors for restoration should be either to short-cir
 cuit restoring an already restored anchor (or throwing)\, or to add the UU
 ID to the list of known persistent anchors?\n >\n\n* [proposals#92 Add wav
 eform input to the gamepad haptics](https://github.com/immersive-web/propo
 sals/issues/92) - cabanier\n> In https://github.com/immersive-web/webxr/is
 sues/1423 I asked about better haptics support.\n >A lot of movement happe
 ned in haptics since I made that suggestion and it seems that most platfor
 ms now support some sort of audio based haptics API.\n\n\n\n### Immersive 
 Web Community Group Teleconference - 2026-03-24\n\n<table>\n<tr><td> San F
 rancisco (U.S.A. - California) <td> Tuesday\, March 24 at 11:00 AM PDT\n<t
 r><td> Boston (U.S.A. - Massachusetts) <td> Tuesday\, March 24 at 2:00 PM 
 EDT\n<tr><td> London (United Kingdom - England) <td> Tuesday\, March 24 at
  6:00 PM GMT\n<tr><td> Paris (France) <td> Tuesday\, March 24 at 7:00 PM G
 MT+1\n<tr><td> Tokyo (Japan) <td> Wednesday\, March 25 at 3:00 AM GMT+9\n<
 tr><td> Corresponding UTC (GMT) <td> Tuesday\, March 24 at 6:00 PM UTC\n</
 table>\n\n### Logistics\n\nChair: Ada Rose Cannon\n\nScribe:\n\nIRC: [irc.
 w3.org](https://irc.w3.org/):6667 #immersive-web [Instructions](https://gi
 thub.com/immersive-web/administrivia/blob/main/IRC.md)\n\nCall Details can
  be found in the Immersive Web Event Calendars: [WG](https://www.w3.org/gr
 oups/wg/immersive-web/calendar/)/[CG](https://www.w3.org/groups/cg/immersi
 ve-web/calendar/)\n\nYou subscribe to these calendars with your calendar a
 pplication of choice for more convenient access to the call details. See d
 etails at Export options section in [WG](https://www.w3.org/groups/wg/imme
 rsive-web/calendar/#export)/[CG](https://www.w3.org/groups/cg/immersive-we
 b/calendar/#export).\n\nIf you are unable to login to view the call detail
 s please ask on the IRC before the call.\n\n### Help Wanted\n\nHere are so
 me issues which are good issues to get involved in\, if you have taken res
 ponsibility for one leave a comment in the issue:\n\n- [webvr-polyfill-dpd
 b#34 Create a helper script/web page for generating values for a new devic
 e](https://github.com/immersive-web/webvr-polyfill-dpdb/issues/34)\n- [web
 xr-input-profiles#69 Resizing the window changes the model viewer's aspect
  ratio](https://github.com/immersive-web/webxr-input-profiles/issues/69) [
 <small>[Future]</small>](https://api.github.com/repos/immersive-web/webxr-
 input-profiles/milestones/4)\n- [webxr#953 Typescript definitions](https:/
 /github.com/immersive-web/webxr/issues/953) [<small>[Pre-REC]</small>](htt
 ps://api.github.com/repos/immersive-web/webxr/milestones/16)\n- [webxr#111
 5 Explicitly spec when inline animation frame loops are suspended](https:/
 /github.com/immersive-web/webxr/issues/1115) [<small>[Pre-REC]</small>](ht
 tps://api.github.com/repos/immersive-web/webxr/milestones/16)\n- [proposal
 s#82 Some sort of local shared space](https://github.com/immersive-web/pro
 posals/issues/82)
STATUS:CONFIRMED
CREATED:20260323T191023Z
LAST-MODIFIED:20260406T194920Z
SEQUENCE:2
ORGANIZER;CN=W3C Calendar;PARTSTAT=ACCEPTED;ROLE=NON-PARTICIPANT:mailto:nor
 eply@w3.org
ATTENDEE;CUTYPE=GROUP;ROLE=OPT-PARTICIPANT;RSVP=FALSE;CN=Immersive Web Comm
 unity Group:mailto:public-immersive-web@w3.org
ATTENDEE;CUTYPE=GROUP;ROLE=OPT-PARTICIPANT;RSVP=FALSE;CN=Immersive Web Work
 ing Group:mailto:public-immersive-web-wg@w3.org
RRULE:FREQ=DAILY;UNTIL=20260407T180000Z;INTERVAL=14;WKST=MO
RELATED-TO:08e221c5-ecee-49cc-9e60-bce8dfa41248
END:VEVENT
BEGIN:VEVENT
UID:4b5294b7-6afc-44e6-ab59-91aaeaebcad0
DTSTAMP:20260407T165355Z
SUMMARY:Immersive Web Group Calls
DTSTART;TZID=America/Los_Angeles:20260407T110000
DTEND;TZID=America/Los_Angeles:20260407T120000
DESCRIPTION:https://www.w3.org/events/meetings/4b5294b7-6afc-44e6-ab59-91aa
 eaebcad0/20260407T110000/\n\n### Call Agenda\n\nThis agenda can be viewed 
 and updated on [Github](https://github.com/immersive-web/administrivia/blo
 b/main/meetings/2026/2026-04-07-Immersive_Web_Community_Group_Teleconferen
 ce-agenda.md).\n\nIf you would like to add an item to the agenda or volunt
 eer to scribe please open a pull request against this agenda.\n\n* [admini
 strivia#239 Archive WebVR related repositories](https://github.com/immersi
 ve-web/administrivia/issues/239) [requested by AdaRoseCannon](https://gith
 ub.com/immersive-web/administrivia/issues/239#issuecomment-4157092562)\n> 
 lets let the CG know at least before we archive them.\n\n* [layers#324 Wid
 th and height of XRQuadLayer are actually half width and half height](http
 s://github.com/immersive-web/layers/issues/324) [requested by cabanier](ht
 tps://github.com/immersive-web/layers/issues/324#issuecomment-4047649412)\
 n> discuss incorrect width/height behavior\n\n* [webxr#1396 Confusion arou
 nd actual and internal visiblity](https://github.com/immersive-web/webxr/i
 ssues/1396) [requested by ibytergj](https://github.com/immersive-web/webxr
 /issues/1396#issuecomment-4006379250)\n> So my use case right now is in VR
  when the user takes off their headset. I want to signal to the system tha
 t the avatar should go into an idle pose so that the avatar is just not co
 llapsing\, whichever way the handset and controllers happen to be put down
 . If the headset supports the information like the quest  3 does\, it woul
 d be very useful if this information was available to us to implement for 
 a better user experience.\n\n\n* [proposals#91 Spatial CSS Interest](https
 ://github.com/immersive-web/proposals/issues/91) [requested by AdaRoseCann
 on](https://github.com/immersive-web/proposals/issues/91#issuecomment-4179
 267559)\n> Hi\, we have published our proposal for Spatial CSS here:\n>\n>
 * Explainer: https://webkit.github.io/explainers/css-spatial/explainer.htm
 l. \n>* Spec: https://webkit.github.io/explainers/css-spatial/Overview.htm
 l\n>\n>The goal of this work is to let web authors build in-page spatial e
 xperiences using familiar CSS patterns.\n>\n>This introduces three-dimensi
 onal layout to CSS\, allowing elements to be positioned toward and away fr
 om the user. This can create either simple raised-off-the-page effects or 
 a full portal into a 3D world that acts as a window into an independent sp
 atial coordinate system.\n>\n>Existing CSS positioning concepts such as re
 lative and absolute positioning\, inset properties\, anchor positioning\, 
 and box alignment are extended to work across all three axes.\n>\n>There a
 re controls that let UAs constrain how far content can protrude toward the
  user\, and capabilities for authors to adapt layouts based on the availab
 le spatial depth.\n>\n> to go over this proposal\n\n### Immersive Web Comm
 unity Group Teleconference - 2026-04-07\n\n<table>\n<tr><td> San Francisco
  (U.S.A. - California) <td> Tuesday\, April 7 at 11:00 AM PDT\n<tr><td> Bo
 ston (U.S.A. - Massachusetts) <td> Tuesday\, April 7 at 2:00 PM EDT\n<tr><
 td> London (United Kingdom - England) <td> Tuesday\, April 7 at 7:00 PM GM
 T+1\n<tr><td> Paris (France) <td> Tuesday\, April 7 at 8:00 PM GMT+2\n<tr>
 <td> Tokyo (Japan) <td> Wednesday\, April 8 at 3:00 AM GMT+9\n<tr><td> Cor
 responding UTC (GMT) <td> Tuesday\, April 7 at 6:00 PM UTC\n</table>\n\n##
 # Logistics\n\nChair: Ada Rose Cannon\n\nScribe:\n\nIRC: [irc.w3.org](http
 s://irc.w3.org/):6667 #immersive-web [Instructions](https://github.com/imm
 ersive-web/administrivia/blob/main/IRC.md)\n\nCall Details can be found in
  the Immersive Web Event Calendars: [WG](https://www.w3.org/groups/wg/imme
 rsive-web/calendar/)/[CG](https://www.w3.org/groups/cg/immersive-web/calen
 dar/)\n\nYou subscribe to these calendars with your calendar application o
 f choice for more convenient access to the call details. See details at Ex
 port options section in [WG](https://www.w3.org/groups/wg/immersive-web/ca
 lendar/#export)/[CG](https://www.w3.org/groups/cg/immersive-web/calendar/#
 export).\n\nIf you are unable to login to view the call details please ask
  on the IRC before the call.\n\n### Help Wanted\n\nHere are some issues wh
 ich are good issues to get involved in\, if you have taken responsibility 
 for one leave a comment in the issue:\n\n- [webvr-polyfill-dpdb#34 Create 
 a helper script/web page for generating values for a new device](https://g
 ithub.com/immersive-web/webvr-polyfill-dpdb/issues/34)\n\nAgenda: https://
 github.com/immersive-web/administrivia/blob/main/meetings/2026/2026-04-07-
 Immersive_Web_Community_Group_Teleconference-agenda.md\n\nAgenda\n\nCall A
 genda\nThis agenda can be viewed and updated on Github.\n\nIf you would li
 ke to add an item to the agenda or volunteer to scribe please open a pull 
 request against this agenda.\n\nadministrivia#239 Archive WebVR related re
 positories requested by AdaRoseCannon\nlets let the CG know at least befor
 e we archive them.\n\nlayers#324 Width and height of XRQuadLayer are actua
 lly half width and half height requested by cabanier\ndiscuss incorrect wi
 dth/height behavior\n\nwebxr#1396 Confusion around actual and internal vis
 iblity requested by ibytergj\nSo my use case right now is in VR when the u
 ser takes off their headset. I want to signal to the system that the avata
 r should go into an idle pose so that the avatar is just not collapsing\, 
 whichever way the handset and controllers happen to be put down. If the he
 adset supports the information like the quest 3 does\, it would be very us
 eful if this information was available to us to implement for a better use
 r experience.\n\nproposals#91 Spatial CSS Interest requested by AdaRoseCan
 non\nHi\, we have published our proposal for Spatial CSS here:\n\nExplaine
 r: https://webkit.github.io/explainers/css-spatial/explainer.html.\nSpec: 
 https://webkit.github.io/explainers/css-spatial/Overview.html\nThe goal of
  this work is to let web authors build in-page spatial experiences using f
 amiliar CSS patterns.\n\nThis introduces three-dimensional layout to CSS\,
  allowing elements to be positioned toward and away from the user. This ca
 n create either simple raised-off-the-page effects or a full portal into a
  3D world that acts as a window into an independent spatial coordinate sys
 tem.\n\nExisting CSS positioning concepts such as relative and absolute po
 sitioning\, inset properties\, anchor positioning\, and box alignment are 
 extended to work across all three axes.\n\nThere are controls that let UAs
  constrain how far content can protrude toward the user\, and capabilities
  for authors to adapt layouts based on the available spatial depth.\n\nto 
 go over this proposal\n\nImmersive Web Community Group Teleconference - 20
 26-04-07\nSan Francisco (U.S.A. - California)	Tuesday\, April 7 at 11:00 A
 M PDT\nBoston (U.S.A. - Massachusetts)	Tuesday\, April 7 at 2:00 PM EDT\nL
 ondon (United Kingdom - England)	Tuesday\, April 7 at 7:00 PM GMT+1\nParis
  (France)	Tuesday\, April 7 at 8:00 PM GMT+2\nTokyo (Japan)	Wednesday\, Ap
 ril 8 at 3:00 AM GMT+9\nCorresponding UTC (GMT)	Tuesday\, April 7 at 6:00 
 PM UTC\nLogistics\nChair: Ada Rose Cannon\n\nScribe:\n\nIRC: irc.w3.org:66
 67 #immersive-web Instructions\n\nCall Details can be found in the Immersi
 ve Web Event Calendars: WG/CG\n\nYou subscribe to these calendars with you
 r calendar application of choice for more convenient access to the call de
 tails. See details at Export options section in WG/CG.\n\nIf you are unabl
 e to login to view the call details please ask on the IRC before the call.
STATUS:CONFIRMED
CREATED:20260406T184229Z
LAST-MODIFIED:20260407T165355Z
SEQUENCE:3
ORGANIZER;CN=W3C Calendar;PARTSTAT=ACCEPTED;ROLE=NON-PARTICIPANT:mailto:nor
 eply@w3.org
ATTENDEE;CUTYPE=GROUP;ROLE=OPT-PARTICIPANT;RSVP=FALSE;CN=Immersive Web Comm
 unity Group:mailto:public-immersive-web@w3.org
ATTENDEE;CUTYPE=GROUP;ROLE=OPT-PARTICIPANT;RSVP=FALSE;CN=Immersive Web Work
 ing Group:mailto:public-immersive-web-wg@w3.org
RECURRENCE-ID;TZID=America/Los_Angeles:20260407T110000
END:VEVENT
END:VCALENDAR
